BEGIN:VCALENDAR
VERSION:2.0
PRODID:-//TCFD Knowledge Hub - ECPv5.12.1//NONSGML v1.0//EN
CALSCALE:GREGORIAN
METHOD:PUBLISH
X-WR-CALNAME:TCFD Knowledge Hub
X-ORIGINAL-URL:https://www.tcfdhub.org
X-WR-CALDESC:Events for TCFD Knowledge Hub
BEGIN:VTIMEZONE
TZID:UTC
BEGIN:STANDARD
TZOFFSETFROM:+0000
TZOFFSETTO:+0000
TZNAME:UTC
DTSTART:20200101T000000
END:STANDARD
END:VTIMEZONE
BEGIN:VEVENT
DTSTART;VALUE=DATE:20200204
DTEND;VALUE=DATE:20200205
DTSTAMP:20220114T134101
CREATED:20200124T121448Z
LAST-MODIFIED:20200124T121448Z
UID:4467-1580774400-1580860799@www.tcfdhub.org
SUMMARY:Sustainability Leaders Forum
DESCRIPTION:edie’s 2020 Sustainability Leaders Forum is all about chasing the positive and reaching the climate turning point. The flagship\, multi-award-winning event unites business leaders and sustainability decision-makers from the world’s largest companies\, along with climate experts\, policymakers\, NGOs and investors to ignite a decade of business transformation. Offering two-days full of inspirational talks\, high-level panel discussions\, interactive experiences\, collaborative workshops and unique networking opportunities.
URL:https://www.tcfdhub.org/event-calendar/sustainability-leaders-forum/
LOCATION:London\, London\, United Kingdom
END:VEVENT
BEGIN:VEVENT
DTSTART;TZID=UTC:20200204T083000
DTEND;TZID=UTC:20200204T213000
DTSTAMP:20220114T134101
CREATED:20200124T124315Z
LAST-MODIFIED:20200124T124338Z
UID:4486-1580805000-1580851800@www.tcfdhub.org
SUMMARY:TCFD implementation webinar series: how to improve your disclosure of metrics and targets
DESCRIPTION:Join this webinar with CDSB and Danone to gain insight into the key characteristics of disclosing metrics and targets\, and what good practice looks like. \nOrganisations can benefit greatly from measuring and managing their performance on climate-related issues using quantitative metrics and targets. \nAs one of its four core elements\, the Task Force on Climate-related Financial Disclosures (TCFD) recommendations encourages the disclosure of relevant metrics to help investors and other decision makers “better assess the organisation’s potential risk-adjusted returns\, ability to meet financial obligations\, general exposure to climate-related issues\, and progress in managing or adapting to those issues”. \nIn response to this\, many organisations have expressed a need for practical guidance on how to disclose in line with the TCFD recommendations. \nHosted by the Climate Disclosure Standards Board (CDSB)\, this episode in the TCFD webinar series will focus specifically on metrics and targets\, featuring insights from Danone.
URL:https://www.tcfdhub.org/event-calendar/tcfd-implementation-webinar-series-how-to-improve-your-disclosure-of-metrics-and-targets/
LOCATION:Online
END:VEVENT
BEGIN:VEVENT
DTSTART;TZID=UTC:20200204T163000
DTEND;TZID=UTC:20200204T173000
DTSTAMP:20220114T134101
CREATED:20200124T124453Z
LAST-MODIFIED:20200124T124711Z
UID:4490-1580833800-1580837400@www.tcfdhub.org
SUMMARY:TCFD implementation webinar series: how to improve your disclosure of metrics and targets
DESCRIPTION:Join this webinar with CDSB and Danone to gain insight into the key characteristics of disclosing metrics and targets and what good practice looks like. \nOrganisations can benefit greatly from measuring and managing their performance on climate-related issues using quantitative metrics and targets. \nAs one of its four core elements\, the Task Force on Climate-related Financial Disclosures (TCFD) recommendations encourages the disclosure of relevant metrics to help investors and other decision makers “better assess the organisation’s potential risk-adjusted returns\, ability to meet financial obligations\, general exposure to climate-related issues\, and progress in managing or adapting to those issues”. \nIn response to this\, many organisations have expressed a need for practical guidance on how to disclose in line with the TCFD recommendations. \nHosted by the Climate Disclosure Standards Board (CDSB)\, this episode in the TCFD webinar series will focus specifically on metrics and targets\, featuring insights from Danone.
URL:https://www.tcfdhub.org/event-calendar/tcfd-implementation-webinar-series-how-to-improve-your-disclosure-of-metrics-and-targets-2/
LOCATION:Online
END:VEVENT
END:VCALENDAR