BEGIN:VCALENDAR
VERSION:2.0
PRODID:-//TCFD Knowledge Hub - ECPv5.12.1//NONSGML v1.0//EN
CALSCALE:GREGORIAN
METHOD:PUBLISH
X-WR-CALNAME:TCFD Knowledge Hub
X-ORIGINAL-URL:https://www.tcfdhub.org
X-WR-CALDESC:Events for TCFD Knowledge Hub
BEGIN:VTIMEZONE
TZID:UTC
BEGIN:STANDARD
TZOFFSETFROM:+0000
TZOFFSETTO:+0000
TZNAME:UTC
DTSTART:20200101T000000
END:STANDARD
END:VTIMEZONE
BEGIN:VEVENT
DTSTART;VALUE=DATE:20200210
DTEND;VALUE=DATE:20200214
DTSTAMP:20220114T134010
CREATED:20200124T121620Z
LAST-MODIFIED:20200124T121620Z
UID:4470-1581292800-1581638399@www.tcfdhub.org
SUMMARY:GLOBE Forum
DESCRIPTION:GLOBE Series is the largest and longest-running sustainable business summit and innovation showcase in North America. Since 1990\, 170\,000 people from 97 countries have come to GLOBE to learn from industry leaders\, marvel at cutting-edge technology and form long-lasting partnerships. \nGiven the urgency of the global climate crisis\, GLOBE 2020 will have a laser focus on impact\, action and outcomes. Offering stellar growth and networking opportunities to thousands of corporate\, government and young leaders\, GLOBE is the business summit with global impact.
URL:https://www.tcfdhub.org/event-calendar/globe-forum/
LOCATION:Vancouver\, Canada
END:VEVENT
BEGIN:VEVENT
DTSTART;VALUE=DATE:20200212
DTEND;VALUE=DATE:20200213
DTSTAMP:20220114T134010
CREATED:20200124T121759Z
LAST-MODIFIED:20200124T121759Z
UID:4474-1581465600-1581551999@www.tcfdhub.org
SUMMARY:PRI Forum London
DESCRIPTION:The PRI Forum London will cover a wide spectrum of the PRI’s latest work – from ESG issues to investment practices. Designed to inform and to facilitate discussion\, the Forum will provide a valuable update on the PRI’s work and an opportunity for knowledge-sharing between key stakeholders in the responsible investment community. Investor action on climate change – identified by PRI’s signatories as their highest priority ESG issue – will have a strong focus\, with coverage of the UK’s net zero commitments and the PRI’s Inevitable Policy Response initiative. We’ll also be sharing PRI thinking\, tools and guides\, including new research on ESG integration in fixed income\, and the latest updates on investor action to tackle modern slavery.
URL:https://www.tcfdhub.org/event-calendar/pri-forum-london/
LOCATION:London\, London\, United Kingdom
END:VEVENT
END:VCALENDAR