BEGIN:VCALENDAR
VERSION:2.0
PRODID:-//TCFD Knowledge Hub - ECPv5.12.1//NONSGML v1.0//EN
CALSCALE:GREGORIAN
METHOD:PUBLISH
X-WR-CALNAME:TCFD Knowledge Hub
X-ORIGINAL-URL:https://www.tcfdhub.org
X-WR-CALDESC:Events for TCFD Knowledge Hub
BEGIN:VTIMEZONE
TZID:UTC
BEGIN:STANDARD
TZOFFSETFROM:+0000
TZOFFSETTO:+0000
TZNAME:UTC
DTSTART:20200101T000000
END:STANDARD
END:VTIMEZONE
BEGIN:VEVENT
DTSTART;TZID=UTC:20200220T100000
DTEND;TZID=UTC:20200220T230000
DTSTAMP:20220114T133908
CREATED:20200203T145534Z
LAST-MODIFIED:20200203T145615Z
UID:4529-1582192800-1582239600@www.tcfdhub.org
SUMMARY:What You Need to Know: The EU Environmental Reporting Handbook
DESCRIPTION:In December 2019 the European Commission announced an upcoming review of the EU Non-Financial Reporting Directive (NFRD) as part of the EU Green Deal commitments. CDSB and CDP analysed company annual reports from various sectors across EU member states and mapped them against the five NFRD content categories to provide tips for making effective disclosure on environmental matters\, including environmental information beyond GHG emissions. This report also considers how the requirements of the NFRD relate to the recommendations of the TCFD.
URL:https://www.tcfdhub.org/event-calendar/what-you-need-to-know-the-eu-environmental-reporting-handbook/
LOCATION:Online
END:VEVENT
END:VCALENDAR