BEGIN:VCALENDAR
VERSION:2.0
PRODID:-//TCFD Knowledge Hub - ECPv5.12.1//NONSGML v1.0//EN
CALSCALE:GREGORIAN
METHOD:PUBLISH
X-WR-CALNAME:TCFD Knowledge Hub
X-ORIGINAL-URL:https://www.tcfdhub.org
X-WR-CALDESC:Events for TCFD Knowledge Hub
BEGIN:VTIMEZONE
TZID:UTC
BEGIN:STANDARD
TZOFFSETFROM:+0000
TZOFFSETTO:+0000
TZNAME:UTC
DTSTART:20200101T000000
END:STANDARD
END:VTIMEZONE
BEGIN:VEVENT
DTSTART;TZID=UTC:20200303T080000
DTEND;TZID=UTC:20200303T090000
DTSTAMP:20220114T133734
CREATED:20200302T141110Z
LAST-MODIFIED:20200302T141110Z
UID:4592-1583222400-1583226000@www.tcfdhub.org
SUMMARY:Webinar: Implementing TCFD recommendations in insurance industry investment activities
DESCRIPTION:The Financial Stability Board’s Task Force on Climate-related Financial Disclosures (TCFD) has issued recommendations relevant to the insurance industry’s insurance and investment activities. This webinar by UNEP’s Principles for Sustainable Insurance Initiative (PSI) will focus on investment portfolios and the key findings of two pioneering TCFD pilot projects by UNEP’s Finance Initiative (UNEP FI)\, spanning listed equity\, corporate debt and real estate. Understanding climate-related physical and transition risks and opportunities in investments is critical\, particularly since the global insurance industry\, as institutional investors\, collectively represents over USD 30 trillion in assets under management. Separately\, the PSI is currently carrying out a ground-breaking project to pilot the TCFD recommendations in the context of insurance portfolios.
URL:https://www.tcfdhub.org/event-calendar/webinar-implementing-tcfd-recommendations-in-insurance-industry-investment-activities/
LOCATION:Online
END:VEVENT
END:VCALENDAR