BEGIN:VCALENDAR
VERSION:2.0
PRODID:-//TCFD Knowledge Hub - ECPv5.12.1//NONSGML v1.0//EN
CALSCALE:GREGORIAN
METHOD:PUBLISH
X-WR-CALNAME:TCFD Knowledge Hub
X-ORIGINAL-URL:https://www.tcfdhub.org
X-WR-CALDESC:Events for TCFD Knowledge Hub
BEGIN:VTIMEZONE
TZID:UTC
BEGIN:STANDARD
TZOFFSETFROM:+0000
TZOFFSETTO:+0000
TZNAME:UTC
DTSTART:20200101T000000
END:STANDARD
END:VTIMEZONE
BEGIN:VEVENT
DTSTART;VALUE=DATE:20200304
DTEND;VALUE=DATE:20200307
DTSTAMP:20220114T133716
CREATED:20200124T121944Z
LAST-MODIFIED:20200124T121944Z
UID:4477-1583280000-1583539199@www.tcfdhub.org
SUMMARY:Climate Leadership Conference
DESCRIPTION:The annual Climate Leadership Conference is North America’s premier event dedicated to addressing the climate crisis through policy\, innovation\, and business solutions. Hosted by the Center for Climate and Energy Solutions (C2ES) and The Climate Registry\, the conference brings together forward-thinking leaders from business\, government\, academia\, and the non-profit community to explore energy and climate solutions and opportunities\, and to showcase climate leadership.
URL:https://www.tcfdhub.org/event-calendar/climate-leadership-conference/
LOCATION:Detroit\, Detroit\, United States
END:VEVENT
END:VCALENDAR