BEGIN:VCALENDAR
VERSION:2.0
PRODID:-//TCFD Knowledge Hub - ECPv5.12.1//NONSGML v1.0//EN
CALSCALE:GREGORIAN
METHOD:PUBLISH
X-WR-CALNAME:TCFD Knowledge Hub
X-ORIGINAL-URL:https://www.tcfdhub.org
X-WR-CALDESC:Events for TCFD Knowledge Hub
BEGIN:VTIMEZONE
TZID:UTC
BEGIN:STANDARD
TZOFFSETFROM:+0000
TZOFFSETTO:+0000
TZNAME:UTC
DTSTART:20200101T000000
END:STANDARD
END:VTIMEZONE
BEGIN:VEVENT
DTSTART;TZID=UTC:20200309T140000
DTEND;TZID=UTC:20200309T150000
DTSTAMP:20220114T133648
CREATED:20200302T134000Z
LAST-MODIFIED:20200302T134000Z
UID:4589-1583762400-1583766000@www.tcfdhub.org
SUMMARY:Webinar: Global Ranking of Asset Managers’ ESG Performance
DESCRIPTION:ShareAction has reviewed the responsible investment practices on climate change\, human and labour rights\, and biodiversity of 75 of the world’s largest asset managers based on data collected through an extensive\, TCFD-aligned survey and publicly available information. \nJoin this webinar on the report’s launch date to examine the first in a series of three reports on global trends in the adoption of responsible investment practices within the industry.
URL:https://www.tcfdhub.org/event-calendar/webinar-global-ranking-of-asset-managers-esg-performance/
END:VEVENT
END:VCALENDAR