BEGIN:VCALENDAR
VERSION:2.0
PRODID:-//TCFD Knowledge Hub - ECPv5.12.1//NONSGML v1.0//EN
CALSCALE:GREGORIAN
METHOD:PUBLISH
X-WR-CALNAME:TCFD Knowledge Hub
X-ORIGINAL-URL:https://www.tcfdhub.org
X-WR-CALDESC:Events for TCFD Knowledge Hub
BEGIN:VTIMEZONE
TZID:Europe/Paris
BEGIN:DAYLIGHT
TZOFFSETFROM:+0100
TZOFFSETTO:+0200
TZNAME:CEST
DTSTART:20200329T010000
END:DAYLIGHT
BEGIN:STANDARD
TZOFFSETFROM:+0200
TZOFFSETTO:+0100
TZNAME:CET
DTSTART:20201025T010000
END:STANDARD
END:VTIMEZONE
BEGIN:VEVENT
DTSTART;TZID=Europe/Paris:20200316T084500
DTEND;TZID=Europe/Paris:20200316T180000
DTSTAMP:20220114T133546
CREATED:20200124T115347Z
LAST-MODIFIED:20200124T115347Z
UID:4435-1584348300-1584381600@www.tcfdhub.org
SUMMARY:ESG & Sustainability Forum: Global Summit 2020
DESCRIPTION:gemanygThe 2nd Annual ESG & Sustainability Forum in Berlin will bring together more than 200 delegates from across the infrastructure asset class. The ESG and Sustainability Forum provides a place to showcase best practice and understand what good looks like from a sustainability perspective. \nWith institutional investors increasingly making demands from fund managers\, this is an event that should not be missed.
URL:https://www.tcfdhub.org/event-calendar/esg-sustainability-forum-global-summit-2020/
LOCATION:Berlin\, Berlin\, Germany
END:VEVENT
END:VCALENDAR