BEGIN:VCALENDAR
VERSION:2.0
PRODID:-//TCFD Knowledge Hub - ECPv5.12.1//NONSGML v1.0//EN
CALSCALE:GREGORIAN
METHOD:PUBLISH
X-WR-CALNAME:TCFD Knowledge Hub
X-ORIGINAL-URL:https://www.tcfdhub.org
X-WR-CALDESC:Events for TCFD Knowledge Hub
BEGIN:VTIMEZONE
TZID:UTC
BEGIN:STANDARD
TZOFFSETFROM:+0000
TZOFFSETTO:+0000
TZNAME:UTC
DTSTART:20200101T000000
END:STANDARD
END:VTIMEZONE
BEGIN:VEVENT
DTSTART;VALUE=DATE:20200317
DTEND;VALUE=DATE:20200319
DTSTAMP:20220114T133529
CREATED:20200124T115700Z
LAST-MODIFIED:20200124T115700Z
UID:4440-1584403200-1584575999@www.tcfdhub.org
SUMMARY:The Responsible Business Summit New York 2020
DESCRIPTION:We’ve been taking from the environmental future for the economic present and we’re now on the cusp of a decade of consequences. A climate emergency\, global social inequalities\, biodiversity loss and increased investor and consumer pressure for business to act. Business needs to step up ambitions to tackle and adapt to the changing climate. \nWe need action. New ways of collaborating. New business models. New forms of investments. \nBut just how do you go about designing for this level of ambitious change? At The Responsible Business Summit New York 2020 we will convene 750+ CEOs\, Chief Sustainability Officers\, ESG investors and leading NGOs from across the globe to share their latest strategies\, and more importantly\, tangible insights into how they are helping deliver the required transformation of business. How they’re delivering a sustainable economy. This is the only forum bringing together senior brand leaders in an intimate setting for two days of honest\, frank and open discussion on how to deliver the required change.
URL:https://www.tcfdhub.org/event-calendar/the-responsible-business-summit-new-york-2020/
LOCATION:New York\, New York\, United States
END:VEVENT
BEGIN:VEVENT
DTSTART;TZID=UTC:20200318T070000
DTEND;TZID=UTC:20200318T080000
DTSTAMP:20220114T133529
CREATED:20200218T095728Z
LAST-MODIFIED:20200218T095728Z
UID:4572-1584514800-1584518400@www.tcfdhub.org
SUMMARY:The right climate for fixed income sustainability
DESCRIPTION:The sovereign debt market is one of the largest asset classes in the world\, yet fixed income markets have typically lagged other asset classes in relation to ESG integration. As a result\, sovereign debt investors are exposed to a range of climate change risks that are typically not well understood or incorporated into the investment process. Part of the challenge has been the lack of sustainable investment products and viable climate data across a number of areas. This unique webinar will address a number of issues for investors seeking to better integrate sustainability and climate risk considerations into their fixed income strategies: \n• Global emissions reduction trajectories by sector and country \n• The macroeconomic implications of climate change \n• How the FTSE World Government Bond Index (WGBI) is adjusted for climate risk \n• Updates on performance of the WGBI and the FTSE Climate Risk-Adjusted World Government Bond Index
URL:https://www.tcfdhub.org/event-calendar/the-right-climate-for-fixed-income-sustainability/
LOCATION:Online
END:VEVENT
END:VCALENDAR