BEGIN:VCALENDAR
VERSION:2.0
PRODID:-//TCFD Knowledge Hub - ECPv5.12.1//NONSGML v1.0//EN
CALSCALE:GREGORIAN
METHOD:PUBLISH
X-WR-CALNAME:TCFD Knowledge Hub
X-ORIGINAL-URL:https://www.tcfdhub.org
X-WR-CALDESC:Events for TCFD Knowledge Hub
BEGIN:VTIMEZONE
TZID:UTC
BEGIN:STANDARD
TZOFFSETFROM:+0000
TZOFFSETTO:+0000
TZNAME:UTC
DTSTART:20200101T000000
END:STANDARD
END:VTIMEZONE
BEGIN:VEVENT
DTSTART;VALUE=DATE:20200323
DTEND;VALUE=DATE:20200327
DTSTAMP:20220114T133434
CREATED:20200124T115814Z
LAST-MODIFIED:20200124T115814Z
UID:4444-1584921600-1585267199@www.tcfdhub.org
SUMMARY:Ceres 2020
DESCRIPTION:Ceres 2020 in New York will mobilize the world’s most influential capital market leaders to accelerate and scale up solutions to the most pressing global sustainability challenges. These leading executives will map out next steps for increased investor and corporate action on sustainability across diverse sectors of the economy.
URL:https://www.tcfdhub.org/event-calendar/ceres-2020/
LOCATION:New York\, New York\, United States
END:VEVENT
BEGIN:VEVENT
DTSTART;TZID=UTC:20200326T120000
DTEND;TZID=UTC:20200326T130000
DTSTAMP:20220114T133434
CREATED:20200323T131105Z
LAST-MODIFIED:20200323T131105Z
UID:4618-1585224000-1585227600@www.tcfdhub.org
SUMMARY:Webinar: Building Climate Resilience: A Physical Risk Primer
DESCRIPTION:Join us for the second of our Climate Risk webcast series where we will be hearing from Dr. Richenda Connell\, Co-founder and CTO of Acclimatise. This webcast will investigate the ways in which the physical risks of climate change generate significant financial risks for firms and how the technology can be deployed to help banks and investors integrate climate risk into their decision-making. \nThrough this webinar you will gain an understanding of: \n\nThe key transmission channels of physical to financial risk\nEmerging frameworks for embedding the physical risks of climate change into existing risk management practices\nHow new technologies can be utilized in assessing and combating physical risk
URL:https://www.tcfdhub.org/event-calendar/webinar-building-climate-resilience-a-physical-risk-primer/
LOCATION:Online
END:VEVENT
BEGIN:VEVENT
DTSTART;TZID=UTC:20200326T143000
DTEND;TZID=UTC:20200326T153000
DTSTAMP:20220114T133434
CREATED:20200320T092940Z
LAST-MODIFIED:20200320T092940Z
UID:4609-1585233000-1585236600@www.tcfdhub.org
SUMMARY:Climate Leaders in the Investment Community
DESCRIPTION:Up for discussion\, ‘The Rapid Evolution of ‘E’: Tracking the Financial Materiality of Environmental Factors During the Climate Emergency’: \n\nStay ahead of the market through a complete understanding of how the fundamental drivers of environmental materiality are influencing change\nIdentify the signals that presuppose regulation and mass changes in public expectation\nUnderstand how these regulatory and expectations shifts influence asset performance\nDevelop investment strategies to balance risk within your portfolio and safeguard against stranded assets\nHear how climate leaders within the investment community are going beyond ‘reaction’ to drive real\, and financially sustainable climate action that benefits both society and clients.\n\nJoin us live in this free interactive webinar! Can’t make it? We will send you the recordings after the discussion.
URL:https://www.tcfdhub.org/event-calendar/climate-leaders-in-the-investment-community/
LOCATION:Online
END:VEVENT
END:VCALENDAR