BEGIN:VCALENDAR
VERSION:2.0
PRODID:-//TCFD Knowledge Hub - ECPv5.12.1//NONSGML v1.0//EN
CALSCALE:GREGORIAN
METHOD:PUBLISH
X-WR-CALNAME:TCFD Knowledge Hub
X-ORIGINAL-URL:https://www.tcfdhub.org
X-WR-CALDESC:Events for TCFD Knowledge Hub
BEGIN:VTIMEZONE
TZID:UTC
BEGIN:STANDARD
TZOFFSETFROM:+0000
TZOFFSETTO:+0000
TZNAME:UTC
DTSTART:20200101T000000
END:STANDARD
END:VTIMEZONE
BEGIN:VEVENT
DTSTART;TZID=UTC:20200402T100000
DTEND;TZID=UTC:20200402T113000
DTSTAMP:20220114T133352
CREATED:20200328T164500Z
LAST-MODIFIED:20200328T164500Z
UID:4624-1585821600-1585827000@www.tcfdhub.org
SUMMARY:Webinar: Climate data and climate services for the finance sector: challenges\, opportunities and experiences
DESCRIPTION:The financial sector is aware of the potential impact of climate change on their products and customers. For example\, risk profiles of their products may change due to changes in extreme rainfall\, storms\, flooding\, etc. At the same time the sector’s climate data needs are diverse\, with insurance companies\, lenders\, and asset managers and owners having varying climate data and information needs. \nIn this webinar\, speakers from the financial\, advisory and research sectors have been invited to share how parts of the financial services sector are managing climate risks\, and ways that financial services firms can interact and engage with climate change research.
URL:https://www.tcfdhub.org/event-calendar/webinar-climate-data-and-climate-services-for-the-finance-sector-challenges-opportunities-and-experiences/
LOCATION:Online
END:VEVENT
END:VCALENDAR