BEGIN:VCALENDAR
VERSION:2.0
PRODID:-//TCFD Knowledge Hub - ECPv5.12.1//NONSGML v1.0//EN
CALSCALE:GREGORIAN
METHOD:PUBLISH
X-WR-CALNAME:TCFD Knowledge Hub
X-ORIGINAL-URL:https://www.tcfdhub.org
X-WR-CALDESC:Events for TCFD Knowledge Hub
BEGIN:VTIMEZONE
TZID:UTC
BEGIN:STANDARD
TZOFFSETFROM:+0000
TZOFFSETTO:+0000
TZNAME:UTC
DTSTART:20200101T000000
END:STANDARD
END:VTIMEZONE
BEGIN:VEVENT
DTSTART;TZID=UTC:20200408T150000
DTEND;TZID=UTC:20200408T160000
DTSTAMP:20220114T133312
CREATED:20200402T114944Z
LAST-MODIFIED:20200402T114944Z
UID:4641-1586358000-1586361600@www.tcfdhub.org
SUMMARY:Climate Disclosures - Accurately Reporting Climate Impacts\, Risks and Future Opportunities
DESCRIPTION:Amid ever-greater revelations about the severity of climate change\, there’s been patchy progress in adopting the Task Force on Climate-related Financial Disclosures’ recommendations on reporting climate risk. Have the TCFDs had the desired effect to prompt companies to adopt more sustainable business or are they another box-ticking exercise to get investors off their back? To help you get in front of the trend and understand the latest approaches\, 4 senior leaders are ready to share their insights in a one-hour interactive webinar debate. \nJoin us on Wednesday\, April 8th\, at 10am ET for our free online webinar with: \n\nEliza Huger Eubank\, Managing Director and Global Head\, Citi Environmental and Social Risk Management\, Citi\nRishi Desai\, Director\, Environmental and Social Risk\, UBS\nSimon Fischweicher\, Senior Manager of Corporate Engagement\, CDP\nMeredith Block\, Senior ESG Analyst and Senior Vice President\, Rockefeller Capital Management\, Rockefeller Capital Management\n\nModerated by Marientina Laina\, Senior Consultant\, South Pole  \nIn this 1-hour webinar\, you will learn how innovative businesses are navigating this reporting landscape: \n\nWorking across different risk and business units within your institutions to implement the TCFDs\nMonetising climate impacts and showcasing a transition to the low-carbon economy\nConducting a scenario analysis of current and future climate risks\nHow the TCFDs are putting sustainability at the doorstep of the CFO & CRO
URL:https://www.tcfdhub.org/event-calendar/climate-disclosures-accurately-reporting-climate-impacts-risks-and-future-opportunities/
LOCATION:Online
END:VEVENT
END:VCALENDAR