BEGIN:VCALENDAR
VERSION:2.0
PRODID:-//TCFD Knowledge Hub - ECPv5.12.1//NONSGML v1.0//EN
CALSCALE:GREGORIAN
METHOD:PUBLISH
X-WR-CALNAME:TCFD Knowledge Hub
X-ORIGINAL-URL:https://www.tcfdhub.org
X-WR-CALDESC:Events for TCFD Knowledge Hub
BEGIN:VTIMEZONE
TZID:UTC
BEGIN:STANDARD
TZOFFSETFROM:+0000
TZOFFSETTO:+0000
TZNAME:UTC
DTSTART:20200101T000000
END:STANDARD
END:VTIMEZONE
BEGIN:VEVENT
DTSTART;TZID=UTC:20200415T100000
DTEND;TZID=UTC:20200415T110000
DTSTAMP:20220114T133236
CREATED:20200318T180020Z
LAST-MODIFIED:20200323T095935Z
UID:4603-1586944800-1586948400@www.tcfdhub.org
SUMMARY:Webinar: Who saw that coming? The importance of future scenario planning for your organisation
DESCRIPTION:Ricardo’s vision is to enable a world fit for the future\, where people can live sustainably. Unfortunately – at least for those with a penchant for prediction—the world is becoming ever more complex and unpredictable. \nAt Ricardo\, we are developing a suite of approaches that help us\, and our partners\, plan more effectively\, by considering some of the possible ways in which the complex world around us will play out in the coming decades. We are not predicting; we are exploring possibilities to help us manage uncertainty. Specifically\, we are developing novel scenario planning techniques. For our clients–and indeed for Ricardo itself–we have developed future scenarios\, and used them to identify high-level strategic actions\, to appreciate the challenges faced by future citizens\, and nucleate ideas for successful future products and services. \nIn this webinar\, our experienced futures-research specialists will discuss the art and science of scenario planning; our process for scenario construction and their application: \n\nDriving forces & scenario construction\nExample Scenarios (Ricardo 2035 Scenarios)\, their implications\, and the team that built them\nRicardo’s innovations in scenario planning\nCase studies and key applications – Example projects – Scenarios for TCFD (Task force on Climate-related Financial Decisions) projects – Automotive-sector product planning\nWhere we’re going next with scenario planning
URL:https://www.tcfdhub.org/event-calendar/who-saw-that-coming-the-importance-of-future-scenario-planning-for-your-organisation/
LOCATION:Online
END:VEVENT
END:VCALENDAR