BEGIN:VCALENDAR
VERSION:2.0
PRODID:-//TCFD Knowledge Hub - ECPv5.12.1//NONSGML v1.0//EN
CALSCALE:GREGORIAN
METHOD:PUBLISH
X-WR-CALNAME:TCFD Knowledge Hub
X-ORIGINAL-URL:https://www.tcfdhub.org
X-WR-CALDESC:Events for TCFD Knowledge Hub
BEGIN:VTIMEZONE
TZID:UTC
BEGIN:STANDARD
TZOFFSETFROM:+0000
TZOFFSETTO:+0000
TZNAME:UTC
DTSTART:20200101T000000
END:STANDARD
END:VTIMEZONE
BEGIN:VEVENT
DTSTART;TZID=UTC:20200428T170000
DTEND;TZID=UTC:20200428T180000
DTSTAMP:20220114T133201
CREATED:20200402T114153Z
LAST-MODIFIED:20200402T114153Z
UID:4635-1588093200-1588096800@www.tcfdhub.org
SUMMARY:Ceres 2020: Climate Strategies and Opportunities: Asset Managers’ Perspectives
DESCRIPTION:Many asset managers are acting to manage climate risks and capture low-carbon investment opportunities. Yet given the scale and urgency of the climate crisis\, much more action is needed by asset managers worldwide to align their investment portfolios with the Paris Agreement’s goals of net-zero global greenhouse gas emissions. \nIn this plenary session participants will: \n\nExamine actions asset managers are taking on climate change in the four areas of The Investor Agenda: investment\, corporate engagement\, investor disclosure and policy advocacy;\nExplore how asset managers are collaborating via the Climate Action 100+ initiative to persuade companies in their portfolios to align with the Paris Agreement’s goals;\nIdentify opportunities asset managers are pursuing in low-carbon\, clean energy technologies.\n\nThis session is part of Ceres 2020 digital programming.
URL:https://www.tcfdhub.org/event-calendar/ceres-2020-climate-strategies-and-opportunities-asset-managers-perspectives/
LOCATION:Online
END:VEVENT
END:VCALENDAR