BEGIN:VCALENDAR
VERSION:2.0
PRODID:-//TCFD Knowledge Hub - ECPv5.12.1//NONSGML v1.0//EN
CALSCALE:GREGORIAN
METHOD:PUBLISH
X-WR-CALNAME:TCFD Knowledge Hub
X-ORIGINAL-URL:https://www.tcfdhub.org
X-WR-CALDESC:Events for TCFD Knowledge Hub
BEGIN:VTIMEZONE
TZID:UTC
BEGIN:STANDARD
TZOFFSETFROM:+0000
TZOFFSETTO:+0000
TZNAME:UTC
DTSTART:20200101T000000
END:STANDARD
END:VTIMEZONE
BEGIN:VEVENT
DTSTART;TZID=UTC:20200430T160000
DTEND;TZID=UTC:20200430T170000
DTSTAMP:20220114T133157
CREATED:20200415T174052Z
LAST-MODIFIED:20200415T174052Z
UID:4657-1588262400-1588266000@www.tcfdhub.org
SUMMARY:Webinar: Building Climate Resilience: A Transition Risk Primer
DESCRIPTION:Join GARP for the next session in their climate risk webcast series where we’ll be hearing from Jason Eis\, executive director of Vivid Economics. This webcast will focus on the transition risks that are likely to arise from the process of adjusting to a lower carbon economy. \nTopics covered will include: \n\nThe nature of the transition risks and how these will generate significant financial risks for firms\nEmerging frameworks for embedding transition risks into existing risk management practices\nThe critical role of scenario analysis to understand and quantify these risks
URL:https://www.tcfdhub.org/event-calendar/webinar-building-climate-resilience-a-transition-risk-primer/
LOCATION:Online
END:VEVENT
END:VCALENDAR