BEGIN:VCALENDAR
VERSION:2.0
PRODID:-//TCFD Knowledge Hub - ECPv5.12.1//NONSGML v1.0//EN
CALSCALE:GREGORIAN
METHOD:PUBLISH
X-WR-CALNAME:TCFD Knowledge Hub
X-ORIGINAL-URL:https://www.tcfdhub.org
X-WR-CALDESC:Events for TCFD Knowledge Hub
BEGIN:VTIMEZONE
TZID:UTC
BEGIN:STANDARD
TZOFFSETFROM:+0000
TZOFFSETTO:+0000
TZNAME:UTC
DTSTART:20200101T000000
END:STANDARD
END:VTIMEZONE
BEGIN:VEVENT
DTSTART;TZID=UTC:20200505T170000
DTEND;TZID=UTC:20200505T180000
DTSTAMP:20220114T133145
CREATED:20200402T114350Z
LAST-MODIFIED:20200402T114350Z
UID:4637-1588698000-1588701600@www.tcfdhub.org
SUMMARY:Ceres 2020: Limiting Temperature Rise to 1.5 Degrees: Roles for Investors\, Companies\, and Policymakers
DESCRIPTION:With new awareness of the systemic risks if global temperatures rise above 1.5℃\, investors\, companies and policymakers have begun making commitments to net-zero carbon emissions by 2050. \nIn this session\, participants will: \n\nExplore how major asset owners decided to commit to net-zero portfolios;\nCompare corporate strategies to set and meet ambitious carbon reduction goals;\nEvaluate the critical role of policymakers in enabling deep carbon emissions reductions.\n\nThis session is part of Ceres 2020 digital programming.
URL:https://www.tcfdhub.org/event-calendar/ceres-2020-limiting-temperature-rise-to-1-5-degrees-roles-for-investors-companies-and-policymakers/
LOCATION:Online
END:VEVENT
END:VCALENDAR