BEGIN:VCALENDAR
VERSION:2.0
PRODID:-//TCFD Knowledge Hub - ECPv5.12.1//NONSGML v1.0//EN
CALSCALE:GREGORIAN
METHOD:PUBLISH
X-WR-CALNAME:TCFD Knowledge Hub
X-ORIGINAL-URL:https://www.tcfdhub.org
X-WR-CALDESC:Events for TCFD Knowledge Hub
BEGIN:VTIMEZONE
TZID:UTC
BEGIN:STANDARD
TZOFFSETFROM:+0000
TZOFFSETTO:+0000
TZNAME:UTC
DTSTART:20200101T000000
END:STANDARD
END:VTIMEZONE
BEGIN:VEVENT
DTSTART;TZID=UTC:20200506T140000
DTEND;TZID=UTC:20200506T150000
DTSTAMP:20220114T133143
CREATED:20200427T090135Z
LAST-MODIFIED:20200427T090135Z
UID:4663-1588773600-1588777200@www.tcfdhub.org
SUMMARY:The Energy Transition: the knowns & unknowns
DESCRIPTION:The Energy Transition: the knowns & unknowns: A Responsible Investor webinar presenting Carbon Tracker’s follow up to the 2019 report ‘Speed of the Energy Transition’ by the World Economic Forum Global Future Council \nOne expert speaker\, a specialist moderator\, and your questions answered! \nThis webinar will present and examine the areas of relative certainty in the energy transition\, driven largely by technological development and market forces. These trends are driving continuing declines in the cost of renewable energy and leading to tipping points in those areas where demand for fossil fuel energy is peaking. \nA second focus of the webinar will be on more complex uncertainty\, mostly relating to questions of political economy. Resistance to change may have the effect of slowing the transition in certain geographies or sectors\, whilst a more aggressive approach to change can accelerate the transition in other regions or industries. \nSpeaker: Kingsmill Bond\, New Energy Strategist for Carbon Tracker and member of the World Economic Forum Global Future Council on Energy. \nModerator: Hugh Wheelan\, Joint Managing Director and Co-founder\, Responsible Investor \nAudience: Investors\, companies\, policymakers
URL:https://www.tcfdhub.org/event-calendar/the-energy-transition-the-knowns-unknowns/
LOCATION:Online
END:VEVENT
BEGIN:VEVENT
DTSTART;TZID=UTC:20200506T170000
DTEND;TZID=UTC:20200506T180000
DTSTAMP:20220114T133143
CREATED:20200402T114542Z
LAST-MODIFIED:20200402T114542Z
UID:4639-1588784400-1588788000@www.tcfdhub.org
SUMMARY:Ceres 2020: Conservative Case for Climate Action and Clean Energy
DESCRIPTION:Conservative voices are powerful allies in the effort to pass climate legislation in the United States\, and our political systems effectively require bipartisan cooperation to enact major policies. \nIn this session\, participants will: \n\nDiscuss the conservative case for clean energy and climate action;\nBuild a better understanding of the universe of conservative efforts on climate and clean energy policy advocacy; and\nExplore specific examples of conservative policy engagement.\n\nThis session is part of Ceres 2020 digital programming.
URL:https://www.tcfdhub.org/event-calendar/ceres-2020-conservative-case-for-climate-action-and-clean-energy/
LOCATION:Online
END:VEVENT
END:VCALENDAR