BEGIN:VCALENDAR
VERSION:2.0
PRODID:-//TCFD Knowledge Hub - ECPv5.12.1//NONSGML v1.0//EN
CALSCALE:GREGORIAN
METHOD:PUBLISH
X-WR-CALNAME:TCFD Knowledge Hub
X-ORIGINAL-URL:https://www.tcfdhub.org
X-WR-CALDESC:Events for TCFD Knowledge Hub
BEGIN:VTIMEZONE
TZID:UTC
BEGIN:STANDARD
TZOFFSETFROM:+0000
TZOFFSETTO:+0000
TZNAME:UTC
DTSTART:20200101T000000
END:STANDARD
END:VTIMEZONE
BEGIN:VEVENT
DTSTART;TZID=UTC:20200512T170000
DTEND;TZID=UTC:20200512T180000
DTSTAMP:20220114T133128
CREATED:20200504T154743Z
LAST-MODIFIED:20200504T154743Z
UID:4686-1589302800-1589306400@www.tcfdhub.org
SUMMARY:Ceres 2020: Electric Power: An Industry in Transition
DESCRIPTION:Power companies continue to increase ambition and set more aggressive greenhouse gas goals. In this session\, participants will: \n\nExamine the pace of change in the electric power industry\nExamine the reasons governments\, businesses and investors are phasing out coal power and scaling up investment in clean energy\nExplore the multi-trillion dollar investment opportunities in energy efficiency and clean energy such as wind and solar\nDissect how electric power company business models are adapting to meet the climate challenge\nOutline strategies to align with expectations of investors in Climate Action 100+.
URL:https://www.tcfdhub.org/event-calendar/ceres-2020-electric-power-an-industry-in-transition/
LOCATION:Online
END:VEVENT
END:VCALENDAR