BEGIN:VCALENDAR
VERSION:2.0
PRODID:-//TCFD Knowledge Hub - ECPv5.12.1//NONSGML v1.0//EN
CALSCALE:GREGORIAN
METHOD:PUBLISH
X-WR-CALNAME:TCFD Knowledge Hub
X-ORIGINAL-URL:https://www.tcfdhub.org
X-WR-CALDESC:Events for TCFD Knowledge Hub
BEGIN:VTIMEZONE
TZID:UTC
BEGIN:STANDARD
TZOFFSETFROM:+0000
TZOFFSETTO:+0000
TZNAME:UTC
DTSTART:20200101T000000
END:STANDARD
END:VTIMEZONE
BEGIN:VEVENT
DTSTART;TZID=UTC:20200514T170000
DTEND;TZID=UTC:20200514T180000
DTSTAMP:20220114T133121
CREATED:20200504T154941Z
LAST-MODIFIED:20200504T154941Z
UID:4688-1589475600-1589479200@www.tcfdhub.org
SUMMARY:Ceres 2020: Decarbonizing the Oil and Gas Sector
DESCRIPTION:With low-carbon transition presenting unique and potentially existential challenges to the oil and gas sector: \n\nHow should the sector respond?\nShould they double down on business as usual and diversify into new energy or reorient around a managed decline?\nHow can investors approach engagement with the sector given this uncertainty?\nHow can we tell a robust decarbonization strategy from greenwashing?\nIs there room for this sector to be part of the solution?\nShould investors focus on getting it out of the way?
URL:https://www.tcfdhub.org/event-calendar/ceres-2020-decarbonizing-the-oil-and-gas-sector/
LOCATION:Online
END:VEVENT
END:VCALENDAR