BEGIN:VCALENDAR
VERSION:2.0
PRODID:-//TCFD Knowledge Hub - ECPv5.12.1//NONSGML v1.0//EN
CALSCALE:GREGORIAN
METHOD:PUBLISH
X-WR-CALNAME:TCFD Knowledge Hub
X-ORIGINAL-URL:https://www.tcfdhub.org
X-WR-CALDESC:Events for TCFD Knowledge Hub
BEGIN:VTIMEZONE
TZID:Europe/Paris
BEGIN:DAYLIGHT
TZOFFSETFROM:+0100
TZOFFSETTO:+0200
TZNAME:CEST
DTSTART:20200329T010000
END:DAYLIGHT
BEGIN:STANDARD
TZOFFSETFROM:+0200
TZOFFSETTO:+0100
TZNAME:CET
DTSTART:20201025T010000
END:STANDARD
TZID:UTC
BEGIN:STANDARD
TZOFFSETFROM:+0000
TZOFFSETTO:+0000
TZNAME:UTC
DTSTART:20200101T000000
END:STANDARD
END:VTIMEZONE
BEGIN:VEVENT
DTSTART;TZID=Europe/Paris:20200528T070000
DTEND;TZID=Europe/Paris:20200528T080000
DTSTAMP:20220114T132948
CREATED:20200521T095216Z
LAST-MODIFIED:20200521T095326Z
UID:4725-1590649200-1590652800@www.tcfdhub.org
SUMMARY:A Near Horizon: Seizing the opportunities and managing the risks in the transition to net zero: The importance of climate-related financial disclosures
DESCRIPTION:On 28 May 2020 at 7.00 pm NZST (7.00 am GMT)\, the McGuinness Institute\, Simpson Grierson\, and the Climate Disclosure Standards Board (CDSB) are delighted to invite you to join a virtual roundtable discussion to hear the perspectives of some of the world’s thought leaders on climate change and finance: \n\nSpeaker 1: Mark Carney (United Nations Special Envoy for Climate Action and Finance and former Governor of the Bank of England)\nSpeaker 2: Adrian Orr (Governor of the Reserve Bank of New Zealand)\nSpeaker 3: James Shaw (Minister for Climate Change\, Minister for Statistics and Associate Minister for Finance)\n\nTo manage Aotearoa New Zealand’s transition to a low-carbon future\, every professional financial decision must take climate change into account. How do we manage this transition? How essential is disclosure in achieving this? \nFor the first part of the roundtable\, the panellists will discuss pathways to rapidly achieving this goal in the near future with a particular focus on the Recommendations of the Task Force on Climate-related Financial Disclosures (TCFD). \nThe second part will be a Q&A between the panellists and Angela Mentis (CEO\, Bank of New Zealand); Matt Whineray (CEO\, NZ Super Fund); Mardi McBrien (CEO\, CDSB); and Martijn Wilder (founding partner\, Pollination Group).
URL:https://www.tcfdhub.org/event-calendar/a-near-horizon-seizing-the-opportunities-and-managing-the-risks-in-the-transition-to-net-zero-the-importance-of-climate-related-financial-disclosures/
LOCATION:Online
END:VEVENT
BEGIN:VEVENT
DTSTART;TZID=UTC:20200528T140000
DTEND;TZID=UTC:20200528T150000
DTSTAMP:20220114T132948
CREATED:20200504T153629Z
LAST-MODIFIED:20200504T153629Z
UID:4678-1590674400-1590678000@www.tcfdhub.org
SUMMARY:Financing the Sustainable Future
DESCRIPTION:This is the decade for change\, action is needed now. The push for business to deliver a low carbon economy\, adapt to the changing climate and understand the potential financial and social risks of climate change has never been greater. How will your business take the lead and invest to deliver the required action?
URL:https://www.tcfdhub.org/event-calendar/financing-the-sustainable-future/
LOCATION:Online
END:VEVENT
BEGIN:VEVENT
DTSTART;TZID=UTC:20200528T170000
DTEND;TZID=UTC:20200528T180000
DTSTAMP:20220114T132948
CREATED:20200504T155132Z
LAST-MODIFIED:20200504T155132Z
UID:4690-1590685200-1590688800@www.tcfdhub.org
SUMMARY:Ceres 2020: Financial Sector Response to Climate Change
DESCRIPTION:As financiers of the global economy\, banks and insurers have an important role to play in facilitating the transition to a net zero emissions economy. A key step to aligning the sector with the Paris Agreement is measuring and then setting goals to reduce the GHG emissions associated financing. But the methodologies and approaches for doing so are still under development. \nIn this session participants will: \n\nShare the frameworks and approaches being to use to measure the GHG emissions associated with their financing\nDiscuss what have been the key challenges financial institutions are facing in doing this analysis\nExplore what investors are keen to know from related bank disclosure
URL:https://www.tcfdhub.org/event-calendar/ceres-2020-financial-sector-response-to-climate-change/
LOCATION:Online
END:VEVENT
END:VCALENDAR