BEGIN:VCALENDAR
VERSION:2.0
PRODID:-//TCFD Knowledge Hub - ECPv5.12.1//NONSGML v1.0//EN
CALSCALE:GREGORIAN
METHOD:PUBLISH
X-WR-CALNAME:TCFD Knowledge Hub
X-ORIGINAL-URL:https://www.tcfdhub.org
X-WR-CALDESC:Events for TCFD Knowledge Hub
BEGIN:VTIMEZONE
TZID:UTC
BEGIN:STANDARD
TZOFFSETFROM:+0000
TZOFFSETTO:+0000
TZNAME:UTC
DTSTART:20200101T000000
END:STANDARD
END:VTIMEZONE
BEGIN:VEVENT
DTSTART;TZID=UTC:20200610T160000
DTEND;TZID=UTC:20200610T170000
DTSTAMP:20220114T132916
CREATED:20200601T095315Z
LAST-MODIFIED:20200601T095315Z
UID:4742-1591804800-1591808400@www.tcfdhub.org
SUMMARY:Ceres 2020: Financing 1.5°C: Powerful Climate Solutions
DESCRIPTION:In order to scale these solutions at the pace necessary to limit warming to 1.5 ̊C\, massive increases in financing will be required\, as well as new products and services from financial institutions. \nIn this session\, participants will: \n\nDiscuss each solution and the pathway to scale it to the level required to achieve drawdown;\nDiscuss the financing gap in each case and how it might be filled; and\nDiscuss the financing needs of emerging technologies and companies\, and how financial institutions can more effectively meet them.
URL:https://www.tcfdhub.org/event-calendar/ceres-2020-financing-1-5c-powerful-climate-solutions/
LOCATION:Online
END:VEVENT
END:VCALENDAR