BEGIN:VCALENDAR
VERSION:2.0
PRODID:-//TCFD Knowledge Hub - ECPv5.12.1//NONSGML v1.0//EN
CALSCALE:GREGORIAN
METHOD:PUBLISH
X-WR-CALNAME:TCFD Knowledge Hub
X-ORIGINAL-URL:https://www.tcfdhub.org
X-WR-CALDESC:Events for TCFD Knowledge Hub
BEGIN:VTIMEZONE
TZID:UTC
BEGIN:STANDARD
TZOFFSETFROM:+0000
TZOFFSETTO:+0000
TZNAME:UTC
DTSTART:20200101T000000
END:STANDARD
END:VTIMEZONE
BEGIN:VEVENT
DTSTART;VALUE=DATE:20200615
DTEND;VALUE=DATE:20200620
DTSTAMP:20220114T132857
CREATED:20200504T095107Z
LAST-MODIFIED:20200504T095107Z
UID:4665-1592179200-1592611199@www.tcfdhub.org
SUMMARY:Responsible Investor Digital Festival: Summer 2020
DESCRIPTION:One week of keynote addresses\, high-level plenaries\, live Q&As and thematic breakouts\, delivered via a unique digital festival. We’re aiming to create the biggest on-line digital responsible investment festival ever!\n\nIn the face of the coronavirus crisis\, now\, more than ever\, investors and companies need to come together to articulate the why\, what and how of a sustainable finance future.\n\nThe Responsible Investor Digital Festival: Summer 2020 – RI DigiFest for short – is our digital response to that need for leadership. It is time to show that responsible investment is the answer to our long-term financial and societal challenges: we believe that an on-line ESG festival of ideas and action is the way to do that.
URL:https://www.tcfdhub.org/event-calendar/responsible-investor-digital-festival-summer-2020/
LOCATION:Online
END:VEVENT
END:VCALENDAR