BEGIN:VCALENDAR
VERSION:2.0
PRODID:-//TCFD Knowledge Hub - ECPv5.12.1//NONSGML v1.0//EN
CALSCALE:GREGORIAN
METHOD:PUBLISH
X-WR-CALNAME:TCFD Knowledge Hub
X-ORIGINAL-URL:https://www.tcfdhub.org
X-WR-CALDESC:Events for TCFD Knowledge Hub
BEGIN:VTIMEZONE
TZID:UTC
BEGIN:STANDARD
TZOFFSETFROM:+0000
TZOFFSETTO:+0000
TZNAME:UTC
DTSTART:20200101T000000
END:STANDARD
END:VTIMEZONE
BEGIN:VEVENT
DTSTART;TZID=UTC:20200720T163000
DTEND;TZID=UTC:20200720T173000
DTSTAMP:20220114T132625
CREATED:20200701T185653Z
LAST-MODIFIED:20200701T185653Z
UID:4786-1595262600-1595266200@www.tcfdhub.org
SUMMARY:Three Horizons: navigating in uncertainty
DESCRIPTION:Globally\, COVID-19 has left uncertainty about the future at an all-time high. The decisions we make today impact future outcomes but how do we move forward without a map? \nThree Horizons is a powerful\, intuitive tool for thinking about the future. It helps to identify challenges in the present\, what patterns are no longer fit for purpose\, how emerging trends can shape the future and the kinds of innovation we might need in order to address these. \nCo-developed by Bill Sharpe and other futurists\, Three Horizons complements traditional scenario planning and roadmap methods for exploring the future and getting into action in the present. \nJoin this webinar to gain insight into: \n\nThe power of Three Horizons for working with complexity and uncertainty;\nThe business context for Three Horizons; and\nUtilising the concepts of Three Horizons to enhance TCFD disclosures.
URL:https://www.tcfdhub.org/event-calendar/three-horizons-navigating-in-uncertainty/
LOCATION:Online
END:VEVENT
END:VCALENDAR