BEGIN:VCALENDAR
VERSION:2.0
PRODID:-//TCFD Knowledge Hub - ECPv5.12.1//NONSGML v1.0//EN
CALSCALE:GREGORIAN
METHOD:PUBLISH
X-WR-CALNAME:TCFD Knowledge Hub
X-ORIGINAL-URL:https://www.tcfdhub.org
X-WR-CALDESC:Events for TCFD Knowledge Hub
BEGIN:VTIMEZONE
TZID:UTC
BEGIN:STANDARD
TZOFFSETFROM:+0000
TZOFFSETTO:+0000
TZNAME:UTC
DTSTART:20200101T000000
END:STANDARD
END:VTIMEZONE
BEGIN:VEVENT
DTSTART;VALUE=DATE:20200907
DTEND;VALUE=DATE:20200909
DTSTAMP:20220114T132105
CREATED:20200701T185429Z
LAST-MODIFIED:20200701T185429Z
UID:4784-1599436800-1599609599@www.tcfdhub.org
SUMMARY:edie Sustainable Investment 2020
DESCRIPTION:Before the coronavirus pandemic grabbed headlines around the world\, 2020 was touted as being a major year for the climate emergency. While the COVID crisis continues to demand attention from business and political leaders around the world\, the need to accelerate our response to the climate emergency remains. \nIn a post-COVID world\, what will the priorities be around redesigning and redeploying finance to stimulate the economy? And how can business and political leaders combine efforts to tackle both the climate and economic challenges that lie ahead? \nOn a more granular level\, many questions around disclosure remain. What does effective disclosure look like? What role does standardisation need to play to accelerate the integration of ESG into investment decision making? How do we resolve the discrepancies between leaders and laggards when it comes to effective disclosure? And what do various degrees of data quality and quantities mean for sustainable investment as a whole? \nWith myriad strategies and frameworks at play\, how do multinational organisations and investors cut through the noise to demonstrate material impact? And who is best placed to decide what is indeed financially material? \nBuilding on the success of edie’s Sustainability Leaders Forum\, the 2020 Digital Sustainable Investment Conference will unite corporates\, asset managers and asset owners among other key stakeholders\, for frank and open discussion around disclosure priorities\, roadblocks and innovations.
URL:https://www.tcfdhub.org/event-calendar/edie-sustainable-investment-2020/
LOCATION:Online
END:VEVENT
END:VCALENDAR