BEGIN:VCALENDAR
VERSION:2.0
PRODID:-//TCFD Knowledge Hub - ECPv5.12.1//NONSGML v1.0//EN
CALSCALE:GREGORIAN
METHOD:PUBLISH
X-WR-CALNAME:TCFD Knowledge Hub
X-ORIGINAL-URL:https://www.tcfdhub.org
X-WR-CALDESC:Events for TCFD Knowledge Hub
BEGIN:VTIMEZONE
TZID:UTC
BEGIN:STANDARD
TZOFFSETFROM:+0000
TZOFFSETTO:+0000
TZNAME:UTC
DTSTART:20200101T000000
END:STANDARD
END:VTIMEZONE
BEGIN:VEVENT
DTSTART;TZID=UTC:20200922T170000
DTEND;TZID=UTC:20200922T180000
DTSTAMP:20220114T131934
CREATED:20200907T115538Z
LAST-MODIFIED:20200907T115538Z
UID:4830-1600794000-1600797600@www.tcfdhub.org
SUMMARY:Managing risk amidst climate change
DESCRIPTION:A Climate Week NYC 2020 event with GARP Risk Institute and CDSB\nThe financial implications of climate change pose a complex issue for businesses. Better understanding of how climate change may result in financial risks is needed so that businesses are prepared for and are resilient to sudden shocks\, for example in adjustments to asset valuations and increasing cost of capital. By applying the fundamentals of risk management – including identifying\, measuring\, managing\, monitoring and disclosing risks – businesses will be better equipped to face climate-related financial risks and ensure their business is resilient to potential future pathways. \nJoin CDSB and GARP Risk Institute in discussion about why and how climate change can be incorporated into risk management processes. \nSpeakers: \n\nMardi McBrien\, Managing Director\, CDSB\nJo Paisley\, co-President\, GARP Risk Institute\nRodney Irwin\, Managing Director\, Redefining Value and Education\, WBCSD\nRobert Litterman\, Chairman of Risk Committee\, Kepos Capital
URL:https://www.tcfdhub.org/event-calendar/managing-risk-amidst-climate-change/
LOCATION:Online
END:VEVENT
END:VCALENDAR