BEGIN:VCALENDAR
VERSION:2.0
PRODID:-//TCFD Knowledge Hub - ECPv5.12.1//NONSGML v1.0//EN
CALSCALE:GREGORIAN
METHOD:PUBLISH
X-WR-CALNAME:TCFD Knowledge Hub
X-ORIGINAL-URL:https://www.tcfdhub.org
X-WR-CALDESC:Events for TCFD Knowledge Hub
BEGIN:VTIMEZONE
TZID:UTC
BEGIN:STANDARD
TZOFFSETFROM:+0000
TZOFFSETTO:+0000
TZNAME:UTC
DTSTART:20200101T000000
END:STANDARD
END:VTIMEZONE
BEGIN:VEVENT
DTSTART;VALUE=DATE:20200928
DTEND;VALUE=DATE:20200930
DTSTAMP:20220114T131857
CREATED:20200722T140649Z
LAST-MODIFIED:20200722T140733Z
UID:4807-1601251200-1601423999@www.tcfdhub.org
SUMMARY:Transform Europe Virtual Series 2020
DESCRIPTION:Business faces significant disruption more than ever before. As the world begins to adapt to the impacts and changes the Covid-19 pandemic has brought\, and as we take stock of the ongoing climate emergency\, deepening social inequalities and biodiversity loss\, we have many decisions to make as to what our future will look like. It is Business’ responsibility to lead the worldwide recovery and embark upon the ‘decade of action’ towards a resilient\, circular\, low-carbon and inclusive world. \nOur mission is to help you navigate this landscape and equip you with the necessary tools\, technologies and strategies for a green\, clean business transformation\, to keep business at the centre of delivering a new blueprint fit for the 21st Century. \nThroughout the year\, from the comfort of your desk\, Reuters Events Transform Europe Virtual Series will be delivering three specialised virtual events\, with free\, unlimited access to premier speaker panels\, interactive workshops and networking opportunities for industry leaders from around the world. Three key areas of business. Three virtual events. One platform. The Reuters Events Transform Summit Series is a unique forum tackling the most critical issues needed for a successful transformation of business.
URL:https://www.tcfdhub.org/event-calendar/transform-europe-virtual-series-2020/
LOCATION:Online
END:VEVENT
END:VCALENDAR