BEGIN:VCALENDAR
VERSION:2.0
PRODID:-//TCFD Knowledge Hub - ECPv5.12.1//NONSGML v1.0//EN
CALSCALE:GREGORIAN
METHOD:PUBLISH
X-WR-CALNAME:TCFD Knowledge Hub
X-ORIGINAL-URL:https://www.tcfdhub.org
X-WR-CALDESC:Events for TCFD Knowledge Hub
BEGIN:VTIMEZONE
TZID:UTC
BEGIN:STANDARD
TZOFFSETFROM:+0000
TZOFFSETTO:+0000
TZNAME:UTC
DTSTART:20200101T000000
END:STANDARD
END:VTIMEZONE
BEGIN:VEVENT
DTSTART;VALUE=DATE:20201013
DTEND;VALUE=DATE:20201015
DTSTAMP:20220114T131717
CREATED:20200819T093810Z
LAST-MODIFIED:20200819T093810Z
UID:4823-1602547200-1602719999@www.tcfdhub.org
SUMMARY:ESG Investment North America
DESCRIPTION:North America’s senior investment leaders convene for two days of exclusive insights\, high-level networking\, and interactive discussion. Participate in live C-Level discussions\, interviews\, case studies and workshops designed to equip you with the critical ‘must have’ tools and knowledge to develop your ESG capabilities and deliver alpha.
URL:https://www.tcfdhub.org/event-calendar/esg-investment-north-america/
LOCATION:Online
END:VEVENT
BEGIN:VEVENT
DTSTART;VALUE=DATE:20201013
DTEND;VALUE=DATE:20201015
DTSTAMP:20220114T131717
CREATED:20200924T103622Z
LAST-MODIFIED:20200924T103622Z
UID:4845-1602547200-1602719999@www.tcfdhub.org
SUMMARY:UNEP Financial Initiative Global Roundtable: Financing a Resilient Future
DESCRIPTION:UN Environment Programme Finance Initiative (UNEP FI) is hosting its 16th Global Roundtable virtually on 13–14 October 2020\, in collaboration with Responsible Investor. UNEP FI’s biennial Global Roundtable (GRT) is a major global agenda-setting event on sustainable finance. Held under the theme of “Financing a Resilient Future”\, the GRT will bring together decision-makers\, experts and thought leaders on a virtual event platform\, and help shape approaches to integrating environmental\, social and governance (ESG) issues and accelerating sustainable banking\, insurance and investment.
URL:https://www.tcfdhub.org/event-calendar/unep-financial-initiative-global-roundtable-financing-a-resilient-future/
LOCATION:Online
END:VEVENT
END:VCALENDAR