BEGIN:VCALENDAR
VERSION:2.0
PRODID:-//TCFD Knowledge Hub - ECPv5.12.1//NONSGML v1.0//EN
CALSCALE:GREGORIAN
METHOD:PUBLISH
X-WR-CALNAME:TCFD Knowledge Hub
X-ORIGINAL-URL:https://www.tcfdhub.org
X-WR-CALDESC:Events for TCFD Knowledge Hub
BEGIN:VTIMEZONE
TZID:UTC
BEGIN:STANDARD
TZOFFSETFROM:+0000
TZOFFSETTO:+0000
TZNAME:UTC
DTSTART:20200101T000000
END:STANDARD
END:VTIMEZONE
BEGIN:VEVENT
DTSTART;TZID=UTC:20201028T090000
DTEND;TZID=UTC:20201028T100000
DTSTAMP:20220114T131541
CREATED:20201012T145609Z
LAST-MODIFIED:20201012T145609Z
UID:4874-1603875600-1603879200@www.tcfdhub.org
SUMMARY:Water-related disclosures: TCFD-aligned scenario analysis
DESCRIPTION:The Water Guidance\, planned for release in early 2021\, builds on the principles and requirements of the CDSB Framework\, answering the “how to” and “what to” questions for report preparers of water-related information. In addition\, the Water Guidance will feature checklists\, examples of good practice and useful resources. \nOne of the resources highlighted in the Water Guidance is the WWF Water Risk Filter. Members of CDSB’s Technical Working Group on water\, Ariane Laporte-Bisquit and Rafael Campargo\, will guide us through the latest update to the Water Risk Filter\, featuring new materials on scenario analysis aligned with the recommendations of the Task force on Climate-related Financial Disclosures (TCFD). \nThis webinar will be held in several time zones.
URL:https://www.tcfdhub.org/event-calendar/water-related-disclosures-tcfd-aligned-scenario-analysis/
LOCATION:Online
END:VEVENT
END:VCALENDAR