BEGIN:VCALENDAR
VERSION:2.0
PRODID:-//TCFD Knowledge Hub - ECPv5.12.1//NONSGML v1.0//EN
CALSCALE:GREGORIAN
METHOD:PUBLISH
X-WR-CALNAME:TCFD Knowledge Hub
X-ORIGINAL-URL:https://www.tcfdhub.org
X-WR-CALDESC:Events for TCFD Knowledge Hub
BEGIN:VTIMEZONE
TZID:UTC
BEGIN:STANDARD
TZOFFSETFROM:+0000
TZOFFSETTO:+0000
TZNAME:UTC
DTSTART:20200101T000000
END:STANDARD
END:VTIMEZONE
BEGIN:VEVENT
DTSTART;VALUE=DATE:20201102
DTEND;VALUE=DATE:20201104
DTSTAMP:20220114T131508
CREATED:20200728T143138Z
LAST-MODIFIED:20200728T143138Z
UID:4813-1604275200-1604447999@www.tcfdhub.org
SUMMARY:ESG Investment Europe Virtual Summit
DESCRIPTION:Europe’s leading stakeholders from across the investment community convene virtually to provide exclusive insights to advance your ESG journey. From strategic direction and policy creation\, to practical next step guidance; Reuters Events ESG Investment Europe Virtual Summit is the institutional investment community’s platform\, providing voice and progress to the ESG conversation
URL:https://www.tcfdhub.org/event-calendar/esg-investment-europe-virtual-summit/
LOCATION:Online
END:VEVENT
END:VCALENDAR