BEGIN:VCALENDAR
VERSION:2.0
PRODID:-//TCFD Knowledge Hub - ECPv5.12.1//NONSGML v1.0//EN
CALSCALE:GREGORIAN
METHOD:PUBLISH
X-WR-CALNAME:TCFD Knowledge Hub
X-ORIGINAL-URL:https://www.tcfdhub.org
X-WR-CALDESC:Events for TCFD Knowledge Hub
BEGIN:VTIMEZONE
TZID:UTC
BEGIN:STANDARD
TZOFFSETFROM:+0000
TZOFFSETTO:+0000
TZNAME:UTC
DTSTART:20200101T000000
END:STANDARD
END:VTIMEZONE
BEGIN:VEVENT
DTSTART;TZID=UTC:20201110T160000
DTEND;TZID=UTC:20201110T170000
DTSTAMP:20220114T131423
CREATED:20201019T090827Z
LAST-MODIFIED:20201019T090827Z
UID:4891-1605024000-1605027600@www.tcfdhub.org
SUMMARY:Transform your decisions: management information
DESCRIPTION:This interactive webinar will look at techniques to help finance professionals develop and integrate the information needed to respond to social and environmental risks and opportunities into core management information processes.
URL:https://www.tcfdhub.org/event-calendar/transform-your-decisions-management-information/
LOCATION:Online
END:VEVENT
END:VCALENDAR