BEGIN:VCALENDAR
VERSION:2.0
PRODID:-//TCFD Knowledge Hub - ECPv5.12.1//NONSGML v1.0//EN
CALSCALE:GREGORIAN
METHOD:PUBLISH
X-WR-CALNAME:TCFD Knowledge Hub
X-ORIGINAL-URL:https://www.tcfdhub.org
X-WR-CALDESC:Events for TCFD Knowledge Hub
BEGIN:VTIMEZONE
TZID:UTC
BEGIN:STANDARD
TZOFFSETFROM:+0000
TZOFFSETTO:+0000
TZNAME:UTC
DTSTART:20200101T000000
END:STANDARD
END:VTIMEZONE
BEGIN:VEVENT
DTSTART;VALUE=DATE:20201114
DTEND;VALUE=DATE:20201121
DTSTAMP:20220114T131313
CREATED:20201027T132842Z
LAST-MODIFIED:20201027T132842Z
UID:4901-1605312000-1605916799@www.tcfdhub.org
SUMMARY:London Climate Action Week
DESCRIPTION:London Climate Action Week (LCAW) is an annual event bringing together world leading array of climate professionals and communities. \nLCAW creates space for London’s world leading array of climate professionals to come together to find solutions to climate change. \nIn doing so\, we are creating an ambitious and lively climate cluster to tackle climate issues at LCAW and throughout the year. Climate change is a systemic challenge requiring all sectors and disciplines to work more closely together to develop and unleash innovative solutions. \nWe are all increasingly aware of the urgency of the need for climate action. Climate change is an existential threat\, requiring us all to act. At LCAW we acknowledge this and welcome a diversity of perspectives and experiences of Londoners. \nAs events in 2020 are teaching us\, we must navigate the complexity of challenges that threaten our economic and societal resilience; acknowledging the need forge a just transition to a net zero future that embraces diversity and difference and plays its part in tackling disadvantage and division. \nAs many Londoners have international heritage\, connections and experience LCAW has a global perspective. LCAW includes culturally rich events and initiatives with impacts and outcomes felt far beyond London’s geographic boundaries. \nLondon Climate Action Week 2020 (14-20 November) builds on the momentum of LCAW 2019 and July’s LCAW 2020 digital. We will convene communities and citizens from across London. LCAW 2020 aims to be a unifying moment shaping a whole of society response to the climate emergency. \nTogether\, London’s cultural institutions\, policy-makers\, professionals\, communities\, faith leadership\, academics and researchers will explore new solutions to transition to an equitable net zero carbon world.
URL:https://www.tcfdhub.org/event-calendar/london-climate-action-week-2/
LOCATION:Online
END:VEVENT
BEGIN:VEVENT
DTSTART;TZID=UTC:20201119T140000
DTEND;TZID=UTC:20201119T153000
DTSTAMP:20220114T131313
CREATED:20201103T142634Z
LAST-MODIFIED:20201103T143604Z
UID:4914-1605794400-1605799800@www.tcfdhub.org
SUMMARY:Net-zero carbon performance measurement
DESCRIPTION:Register for this FREE webinar to learn how corporate and asset performance should be interpreted\, understood\, measured and monitored in an ESG context. Attend to understand the role of standards\, frameworks and benchmarks – including the EU Taxonomy\, the TCFD\, the Sustainable Development Goals (SDGs)\, the CDSB\, and sector specific standards such as BREEAM – in regard of net zero carbon commitments.
URL:https://www.tcfdhub.org/event-calendar/net-zero-carbon-performance-measurement/
LOCATION:Online
END:VEVENT
END:VCALENDAR