BEGIN:VCALENDAR
VERSION:2.0
PRODID:-//TCFD Knowledge Hub - ECPv5.12.1//NONSGML v1.0//EN
CALSCALE:GREGORIAN
METHOD:PUBLISH
X-WR-CALNAME:TCFD Knowledge Hub
X-ORIGINAL-URL:https://www.tcfdhub.org
X-WR-CALDESC:Events for TCFD Knowledge Hub
BEGIN:VTIMEZONE
TZID:UTC
BEGIN:STANDARD
TZOFFSETFROM:+0000
TZOFFSETTO:+0000
TZNAME:UTC
DTSTART:20200101T000000
END:STANDARD
END:VTIMEZONE
BEGIN:VEVENT
DTSTART;TZID=UTC:20201124T080000
DTEND;TZID=UTC:20201124T170000
DTSTAMP:20220114T131241
CREATED:20201103T143516Z
LAST-MODIFIED:20201103T143615Z
UID:4917-1606204800-1606237200@www.tcfdhub.org
SUMMARY:Nordic TCFD Reporting Summit 2020
DESCRIPTION:The world of ESG reporting is moving faster than ever. The European Union is moving fast to update the Non-Financial Reporting Directive (NFRD) in 2021\, the recommendations of the Task Force on Climate-related Financial Disclosures (TCFD) are reaching a critical mass and the often confusing group of reporting initiatives have committed to work together towards a comprehensive reporting landscape\, with financial heavy-hitters such as the International Organization of Securities Commissions (IOSCO) and the International Accounting Standards Board (IASB) stepping into the game. \nJoin Nordea and the Climate Disclosure Standards Board (CDSB) in a conversation with key global shapers of the world’s financial system about current challenges in TCFD implementation and the broader implications for corporates and investors. \nWhile this event is focused on the Northern European market\, attendees from all regions are welcome.
URL:https://www.tcfdhub.org/event-calendar/nordic-tcfd-reporting-summit-2020/
END:VEVENT
END:VCALENDAR