BEGIN:VCALENDAR
VERSION:2.0
PRODID:-//TCFD Knowledge Hub - ECPv5.12.1//NONSGML v1.0//EN
CALSCALE:GREGORIAN
METHOD:PUBLISH
X-WR-CALNAME:TCFD Knowledge Hub
X-ORIGINAL-URL:https://www.tcfdhub.org
X-WR-CALDESC:Events for TCFD Knowledge Hub
BEGIN:VTIMEZONE
TZID:UTC
BEGIN:STANDARD
TZOFFSETFROM:+0000
TZOFFSETTO:+0000
TZNAME:UTC
DTSTART:20200101T000000
END:STANDARD
END:VTIMEZONE
BEGIN:VEVENT
DTSTART;VALUE=DATE:20201130
DTEND;VALUE=DATE:20201203
DTSTAMP:20220114T131148
CREATED:20200930T143919Z
LAST-MODIFIED:20200930T150329Z
UID:4861-1606694400-1606953599@www.tcfdhub.org
SUMMARY:IIRC Global Conference
DESCRIPTION:
URL:https://www.tcfdhub.org/event-calendar/iirc-global-conference/
LOCATION:Online
END:VEVENT
END:VCALENDAR