BEGIN:VCALENDAR
VERSION:2.0
PRODID:-//TCFD Knowledge Hub - ECPv5.12.1//NONSGML v1.0//EN
CALSCALE:GREGORIAN
METHOD:PUBLISH
X-WR-CALNAME:TCFD Knowledge Hub
X-ORIGINAL-URL:https://www.tcfdhub.org
X-WR-CALDESC:Events for TCFD Knowledge Hub
BEGIN:VTIMEZONE
TZID:UTC
BEGIN:STANDARD
TZOFFSETFROM:+0000
TZOFFSETTO:+0000
TZNAME:UTC
DTSTART:20210101T000000
END:STANDARD
END:VTIMEZONE
BEGIN:VEVENT
DTSTART;VALUE=DATE:20210111
DTEND;VALUE=DATE:20210115
DTSTAMP:20220114T130717
CREATED:20210105T112924Z
LAST-MODIFIED:20210105T112924Z
UID:4970-1610323200-1610668799@www.tcfdhub.org
SUMMARY:Reuters Next
DESCRIPTION:REUTERS NEXT kicks off 2021 by gathering global leaders and forward thinkers to reimagine solutions to the challenges the new year brings. \nAfter the extraordinary upheavals of 2020\, we will come together to look ahead at opportunities for change and growth\, as well as how to deal with the rifts and problems that our world and our societies face. \nNo country\, company or community can tackle the future alone. To build a better world\, thinkers and doers must come together to share ideas\, collaborate and act. \nREUTERS NEXT draws on Reuters global reach to host diverse voices from around the world who will examine topics from different perspectives\, bringing their passion\, experience and expertise to find new ways forward. \nJoin the conversation at REUTERS NEXT as we look ahead\, together.
URL:https://www.tcfdhub.org/event-calendar/reuters-next/
LOCATION:Online
END:VEVENT
END:VCALENDAR