BEGIN:VCALENDAR
VERSION:2.0
PRODID:-//TCFD Knowledge Hub - ECPv5.12.1//NONSGML v1.0//EN
CALSCALE:GREGORIAN
METHOD:PUBLISH
X-WR-CALNAME:TCFD Knowledge Hub
X-ORIGINAL-URL:https://www.tcfdhub.org
X-WR-CALDESC:Events for TCFD Knowledge Hub
BEGIN:VTIMEZONE
TZID:UTC
BEGIN:STANDARD
TZOFFSETFROM:+0000
TZOFFSETTO:+0000
TZNAME:UTC
DTSTART:20210101T000000
END:STANDARD
END:VTIMEZONE
BEGIN:VEVENT
DTSTART;TZID=UTC:20210121T030000
DTEND;TZID=UTC:20210121T160000
DTSTAMP:20220114T130655
CREATED:20210105T111157Z
LAST-MODIFIED:20210105T111157Z
UID:4957-1611198000-1611244800@www.tcfdhub.org
SUMMARY:Transition Pathway Initiative: Transportation Report
DESCRIPTION:Join the Transition Pathway Initiative (TPI) for a webinar on their latest Transportation report\, which covers the airline\, auto and international shipping sectors. This webinar will provide the audience with an introduction to the TPI and their methodology. The TPI will discuss the results from their report and give the audience an opportunity to ask the researchers questions.
URL:https://www.tcfdhub.org/event-calendar/transition-pathway-initiative-transportation-report/
LOCATION:Online
END:VEVENT
END:VCALENDAR