BEGIN:VCALENDAR
VERSION:2.0
PRODID:-//TCFD Knowledge Hub - ECPv5.12.1//NONSGML v1.0//EN
CALSCALE:GREGORIAN
METHOD:PUBLISH
X-WR-CALNAME:TCFD Knowledge Hub
X-ORIGINAL-URL:https://www.tcfdhub.org
X-WR-CALDESC:Events for TCFD Knowledge Hub
BEGIN:VTIMEZONE
TZID:UTC
BEGIN:STANDARD
TZOFFSETFROM:+0000
TZOFFSETTO:+0000
TZNAME:UTC
DTSTART:20210101T000000
END:STANDARD
END:VTIMEZONE
BEGIN:VEVENT
DTSTART;TZID=UTC:20210208T140000
DTEND;TZID=UTC:20210208T150000
DTSTAMP:20220114T130526
CREATED:20210105T111434Z
LAST-MODIFIED:20210105T111434Z
UID:4961-1612792800-1612796400@www.tcfdhub.org
SUMMARY:Climate Reporting in the 2021 PRI Reporting Cycle
DESCRIPTION:In 2018\, as part of the PRI’s programme on championing climate action\, we introduced voluntary climate change indicators in the PRI Reporting Framework\, based on the recommendations of the Taskforce on Climate-related Financial Disclosure (TCFD). Since the 2020 reporting cycle\, signatories have been required to report on the climate change indicators on a mandatory basis. In 2021\, the indicators related to the strategy and governance recommendations will also be publicly disclosed and part of private assessment\, while some ‘plus’ questions based on the TCFD recommendations around risk management and metrics and targets will remain voluntary and non-assessed\, with a view to making them ‘core’ in 2022. In this webinar\, we will take signatories through the main changes to the PRI reporting requirements on the TCFD-based indicators and how the recommendations can be implemented by signatories on a more practical basis.
URL:https://www.tcfdhub.org/event-calendar/climate-reporting-in-the-2021-pri-reporting-cycle/
LOCATION:Online
END:VEVENT
END:VCALENDAR