BEGIN:VCALENDAR
VERSION:2.0
PRODID:-//TCFD Knowledge Hub - ECPv5.12.1//NONSGML v1.0//EN
CALSCALE:GREGORIAN
METHOD:PUBLISH
X-WR-CALNAME:TCFD Knowledge Hub
X-ORIGINAL-URL:https://www.tcfdhub.org
X-WR-CALDESC:Events for TCFD Knowledge Hub
BEGIN:VTIMEZONE
TZID:UTC
BEGIN:STANDARD
TZOFFSETFROM:+0000
TZOFFSETTO:+0000
TZNAME:UTC
DTSTART:20210101T000000
END:STANDARD
END:VTIMEZONE
BEGIN:VEVENT
DTSTART;TZID=UTC:20210209T083000
DTEND;TZID=UTC:20210209T093000
DTSTAMP:20220114T130516
CREATED:20210104T132154Z
LAST-MODIFIED:20210104T132154Z
UID:4949-1612859400-1612863000@www.tcfdhub.org
SUMMARY:Sustainable corporate governance: a pathway for policy coherence on directors’ duties and non-financial reporting
DESCRIPTION:Frank Bold and the Climate Disclosure Standards Board (CDSB) are organising an online discussion for those interested in policy\, on how the EU sustainable corporate governance initiative and the reform of the EU Non-Financial Reporting Directive can be focused on helping companies and financial markets to develop and connect sustainability strategies\, target setting\, transition plans and reporting obligations. The event is tentatively planned for February 9 (9.30 – 11h) and you can already register to take part in the event here. \nMeeting the goal of the EU Green Deal to achieve no net GHG emissions by 2050 requires at least half trillion euros of additional investments in the EU every year and will involve significant market and regulatory changes targeting every sector of the economy. The positive impact of both legislative initiatives is closely connected and depends on that of the other. However\, the broad examination of corporate governance conducted by DG Justice has recently opened a heated debate. \nThis event aims to take a sober look at the connection between the non-financial reporting and corporate governance reforms\, with the objective of building consensus on the critical changes needed for the success of the system\, without reinventing the wheel or breaking what works.
URL:https://www.tcfdhub.org/event-calendar/sustainable-corporate-governance-a-pathway-for-policy-coherence-on-directors-duties-and-non-financial-reporting/
LOCATION:Online
END:VEVENT
END:VCALENDAR