BEGIN:VCALENDAR
VERSION:2.0
PRODID:-//TCFD Knowledge Hub - ECPv5.12.1//NONSGML v1.0//EN
CALSCALE:GREGORIAN
METHOD:PUBLISH
X-WR-CALNAME:TCFD Knowledge Hub
X-ORIGINAL-URL:https://www.tcfdhub.org
X-WR-CALDESC:Events for TCFD Knowledge Hub
BEGIN:VTIMEZONE
TZID:UTC
BEGIN:STANDARD
TZOFFSETFROM:+0000
TZOFFSETTO:+0000
TZNAME:UTC
DTSTART:20210101T000000
END:STANDARD
END:VTIMEZONE
BEGIN:VEVENT
DTSTART;VALUE=DATE:20210217
DTEND;VALUE=DATE:20210218
DTSTAMP:20220114T130404
CREATED:20210210T112232Z
LAST-MODIFIED:20210210T112232Z
UID:5012-1613520000-1613606399@www.tcfdhub.org
SUMMARY:Webinar: Physical climate risk and finance: Insights from climate experts and investors to inform climate risk management
DESCRIPTION:Financial costs of climate change are rising\, and investors need more transparent information to manage their physical risks. The European research project ClimINVEST brings together climate scientists and experts and financial actors to collaborate on improved tools and information. \nFinancial costs of climate change are rising\, and investors need more transparent information to manage their physical risks. The European research project ClimINVEST brings together climate scientists and experts and financial actors to collaborate on improved tools and information. \nJoin our closing webinar on February 17th from 14:30 to 16:00 CET\, to get the latest science updates on physical climate risk and from our project capstone report and a showcase of case studies and an online climate indicators platform developed in the project to inform investors’ risk management processes. We will also have a conversation with investors in France\, the Netherlands and Norway who will share insights and experience on physical climate risk assessment in practice. \nLink for more information and to register for the webinar: https://www.cicero.oslo.no/en/climinvest/invitation-to-webinar-17-february-physical-climate-risk-and-finance
URL:https://www.tcfdhub.org/event-calendar/webinar-physical-climate-risk-and-finance-insights-from-climate-experts-and-investors-to-inform-climate-risk-management/
LOCATION:Online
END:VEVENT
END:VCALENDAR