BEGIN:VCALENDAR
VERSION:2.0
PRODID:-//TCFD Knowledge Hub - ECPv5.12.1//NONSGML v1.0//EN
CALSCALE:GREGORIAN
METHOD:PUBLISH
X-WR-CALNAME:TCFD Knowledge Hub
X-ORIGINAL-URL:https://www.tcfdhub.org
X-WR-CALDESC:Events for TCFD Knowledge Hub
BEGIN:VTIMEZONE
TZID:UTC
BEGIN:STANDARD
TZOFFSETFROM:+0000
TZOFFSETTO:+0000
TZNAME:UTC
DTSTART:20210101T000000
END:STANDARD
END:VTIMEZONE
BEGIN:VEVENT
DTSTART;VALUE=DATE:20210303
DTEND;VALUE=DATE:20210305
DTSTAMP:20220114T130205
CREATED:20210105T112442Z
LAST-MODIFIED:20210105T112442Z
UID:4965-1614729600-1614902399@www.tcfdhub.org
SUMMARY:Responsible Investment Forum: New York
DESCRIPTION:The Responsible Investment Forum returns for its fifth year as a virtual event to bring together the most sophisticated institutional investors\, fund managers\, consultants and highly recognized associations to discuss why\, when\, and how your firm should be implementing an effective ESG strategy. \nESG issues are at the heart of all PEI’s editorial coverage\, with our reporters consistently following and scrutinizing the ways in which managers in the US are adopting responsible investment practices and what LPs are looking for as they consider investing in private equity. PEI\, partnering with the Principles for Responsible Investment (PRI)\, continues to prove itself as a thought-leader in this area\, and is at the forefront of covering the growth of ESG in North American private equity. \n\n\n\n\n\n\n\n\n\n\nDiscussion topics: \n\nDelivering social and environmental impact in the healthcare sector\nGood sustainability reporting\nResponsible investing for real estate investors\nESG in private debt\nSustainable infrastructure investing\nClean\, renewable & sustainable energy\nEmerging opportunities in impact investing\nEmerging markets\nEnvironmental justice\nDriving diversity for better results\nThe impact of covid-19 on logistics and supply chain
URL:https://www.tcfdhub.org/event-calendar/responsible-investment-forum-new-york/
LOCATION:Online
END:VEVENT
END:VCALENDAR