BEGIN:VCALENDAR
VERSION:2.0
PRODID:-//TCFD Knowledge Hub - ECPv5.12.1//NONSGML v1.0//EN
CALSCALE:GREGORIAN
METHOD:PUBLISH
X-WR-CALNAME:TCFD Knowledge Hub
X-ORIGINAL-URL:https://www.tcfdhub.org
X-WR-CALDESC:Events for TCFD Knowledge Hub
BEGIN:VTIMEZONE
TZID:UTC
BEGIN:STANDARD
TZOFFSETFROM:+0000
TZOFFSETTO:+0000
TZNAME:UTC
DTSTART:20210101T000000
END:STANDARD
END:VTIMEZONE
BEGIN:VEVENT
DTSTART;TZID=UTC:20210311T143000
DTEND;TZID=UTC:20210311T153000
DTSTAMP:20220114T130056
CREATED:20210304T094954Z
LAST-MODIFIED:20210304T094954Z
UID:5037-1615473000-1615476600@www.tcfdhub.org
SUMMARY:How to account for climate in financial reporting - Part Two
DESCRIPTION:How can companies\, preparers\, accountants and finance functions begin to account for climate under existing accounting standards?\nFollowing the publication of guidance for integrating climate matters into financial reporting by CDSB in December 2020\, we welcome companies\, preparers\, accountants\, the finance function and other stakeholders to join the webinar and gain insight into: \n\nHow climate-related matters should be factored into company financial reporting;\nExamples of accounting for climate in line with current IFRS accounting standards; and\nThe steps preparers should take to begin integrating climate-related matters into financial reporting\, in line with investor and other stakeholder expectations.\n\nThis webinar will have a special focus on two standards: \n\nIAS 36 Impairment of Assets; and\nIAS 16 Property\, Plant & Equipment.\n\nClick here to register for Part One of this webinar\, covering the following two standards: IAS 1 Presentation of Financial Statements and IAS 37 Provisions\, Contingent Liabilities and Contingent Assets.\nThe event follows on from the CDSB online discussions held on 5 November 2020\, which addressed the question as to whether climate-related matters are relevant for financial reporting. Watch the previous discussions here.
URL:https://www.tcfdhub.org/event-calendar/how-to-account-for-climate-in-financial-reporting-part-two/
LOCATION:Online
END:VEVENT
END:VCALENDAR