BEGIN:VCALENDAR
VERSION:2.0
PRODID:-//TCFD Knowledge Hub - ECPv5.12.1//NONSGML v1.0//EN
CALSCALE:GREGORIAN
METHOD:PUBLISH
X-WR-CALNAME:TCFD Knowledge Hub
X-ORIGINAL-URL:https://www.tcfdhub.org
X-WR-CALDESC:Events for TCFD Knowledge Hub
BEGIN:VTIMEZONE
TZID:UTC
BEGIN:STANDARD
TZOFFSETFROM:+0000
TZOFFSETTO:+0000
TZNAME:UTC
DTSTART:20210101T000000
END:STANDARD
END:VTIMEZONE
BEGIN:VEVENT
DTSTART;VALUE=DATE:20210322
DTEND;VALUE=DATE:20210326
DTSTAMP:20220114T125924
CREATED:20210112T100714Z
LAST-MODIFIED:20210112T100714Z
UID:4985-1616371200-1616716799@www.tcfdhub.org
SUMMARY:Ceres 2021
DESCRIPTION:The past year further revealed just how fragile\, interconnected and unprepared we are to confront our greatest global threats—from the climate crisis to water scarcity to racial\, gender and workplace inequality and inequity. These are systemic and pervasive problems that disrupt investment portfolios\, global operations and supply chains\, destabilize financial markets\, and cause widespread human and economic suffering. \nJoin Ceres and hundreds of institutional investors\, corporate executives\, policymakers and regulators as we call for the urgent\, necessary and achievable actions we must take today to transform tomorrow. During this four-day virtual program\, speakers and participants will network with and learn from leading experts and their peers on how to adapt to the ever-changing investment and business realities and thrive in the accelerated transition to a net-zero emissions future.
URL:https://www.tcfdhub.org/event-calendar/ceres-2021/
LOCATION:Online
END:VEVENT
END:VCALENDAR