BEGIN:VCALENDAR
VERSION:2.0
PRODID:-//TCFD Knowledge Hub - ECPv5.12.1//NONSGML v1.0//EN
CALSCALE:GREGORIAN
METHOD:PUBLISH
X-WR-CALNAME:TCFD Knowledge Hub
X-ORIGINAL-URL:https://www.tcfdhub.org
X-WR-CALDESC:Events for TCFD Knowledge Hub
BEGIN:VTIMEZONE
TZID:Asia/Shanghai
BEGIN:STANDARD
TZOFFSETFROM:+0800
TZOFFSETTO:+0800
TZNAME:CST
DTSTART:20210101T000000
END:STANDARD
END:VTIMEZONE
BEGIN:VEVENT
DTSTART;TZID=Asia/Shanghai:20210329T100000
DTEND;TZID=Asia/Shanghai:20210329T113000
DTSTAMP:20220114T125822
CREATED:20210304T095303Z
LAST-MODIFIED:20210304T095303Z
UID:5039-1617012000-1617017400@www.tcfdhub.org
SUMMARY:7th International Conference on Trends of Sustainability 2021
DESCRIPTION:Join this session to hear from senior leaders of the major ESG reporting frameworks and standards about the current state and future ESG reporting and its harmonization globally\, how to navigate and implement effectively their frameworks and standards\, and what can companies and investors expect for the years ahead. \nCo-hosts:\n– Ms. Gennie Yen\, Founder of CSRone & CEO of Veda International Corporation\n– Ms. Eliza Li\, Leader\, Sustainability & Climate Change Services\, PwC Taiwan \nPanelists:\n– Ms. Mardi McBrien\, Managing Director of CDSB\n– Mr. Eric Hespenheide \, Chairman of the Board of Directors at GRI\n– Ms. Katie Schmitz Eulitt\, Director of Investor Outreach of The SASB Foundation\n– Mr. Masaaki Nagamura\, Member of the TCFD
URL:https://www.tcfdhub.org/event-calendar/7th-international-conference-on-trends-of-sustainability-2021/
LOCATION:Online
END:VEVENT
END:VCALENDAR