BEGIN:VCALENDAR
VERSION:2.0
PRODID:-//TCFD Knowledge Hub - ECPv5.12.1//NONSGML v1.0//EN
CALSCALE:GREGORIAN
METHOD:PUBLISH
X-WR-CALNAME:TCFD Knowledge Hub
X-ORIGINAL-URL:https://www.tcfdhub.org
X-WR-CALDESC:Events for TCFD Knowledge Hub
BEGIN:VTIMEZONE
TZID:America/Halifax
BEGIN:DAYLIGHT
TZOFFSETFROM:-0400
TZOFFSETTO:-0300
TZNAME:ADT
DTSTART:20210314T060000
END:DAYLIGHT
BEGIN:STANDARD
TZOFFSETFROM:-0300
TZOFFSETTO:-0400
TZNAME:AST
DTSTART:20211107T050000
END:STANDARD
END:VTIMEZONE
BEGIN:VEVENT
DTSTART;TZID=America/Halifax:20210405T130000
DTEND;TZID=America/Halifax:20210405T140000
DTSTAMP:20220114T125714
CREATED:20210331T103554Z
LAST-MODIFIED:20210331T103554Z
UID:5110-1617627600-1617631200@www.tcfdhub.org
SUMMARY:Plotting the Path to Meet Net-Zero Targets: Energizing Efforts for Action
DESCRIPTION:The global pandemic put a spotlight on the value of environmental\, social and corporate governance considerations across all sectors. We saw an absolute explosion of net-zero commitments from companies and countries surrounding the 5th anniversary of the Paris Agreement. With these new pledges\, the United Nations estimated that by early 2021 countries representing around 65% of global CO2 emissions and around 70% of the world’s economy will have committed to reaching net-zero emissions or carbon neutrality. \nThe new administration in the U.S. brings a significant change in tone on addressing climate risk. On Day 1 in office\, President Joe Biden took steps to rejoin the Paris agreement on climate change and pledged to set the U.S. on the path to net-zero greenhouse gas emissions by 2050 with an interim target of decarbonizing the U.S. \nJoin S&P Global Market Intelligence for this webinar discussion\, bringing together diverse perspectives from three of the world’s largest corporation within retail\, energy and technology: Walmart\, Duke Energy and AT&T on the challenges of meeting net-zero targets.
URL:https://www.tcfdhub.org/event-calendar/plotting-the-path-to-meet-net-zero-targets-energizing-efforts-for-action/
LOCATION:Online
END:VEVENT
END:VCALENDAR