BEGIN:VCALENDAR
VERSION:2.0
PRODID:-//TCFD Knowledge Hub - ECPv5.12.1//NONSGML v1.0//EN
CALSCALE:GREGORIAN
METHOD:PUBLISH
X-WR-CALNAME:TCFD Knowledge Hub
X-ORIGINAL-URL:https://www.tcfdhub.org
X-WR-CALDESC:Events for TCFD Knowledge Hub
BEGIN:VTIMEZONE
TZID:America/New_York
BEGIN:DAYLIGHT
TZOFFSETFROM:-0500
TZOFFSETTO:-0400
TZNAME:EDT
DTSTART:20210314T070000
END:DAYLIGHT
BEGIN:STANDARD
TZOFFSETFROM:-0400
TZOFFSETTO:-0500
TZNAME:EST
DTSTART:20211107T060000
END:STANDARD
END:VTIMEZONE
BEGIN:VEVENT
DTSTART;TZID=America/New_York:20210408T110000
DTEND;TZID=America/New_York:20210408T120000
DTSTAMP:20220114T125639
CREATED:20210329T114950Z
LAST-MODIFIED:20210329T114950Z
UID:5106-1617879600-1617883200@www.tcfdhub.org
SUMMARY:Modeling for Climate Risk Management – Challenges and Opportunities
DESCRIPTION:As the requirements and expectations for managing the risk from climate change gets clearer\, the financial industry seeks methodologies and execution details. In particular\, stress testing/scenario analysis and risk models have taken centre stage. In this session we explore some ways the industry is building and using models for climate risk\, issues and challenges\, how technology and AI/ML can help and how banks can use analytics to identify opportunities.
URL:https://www.tcfdhub.org/event-calendar/modeling-for-climate-risk-management-challenges-and-opportunities/
LOCATION:Online
END:VEVENT
END:VCALENDAR