BEGIN:VCALENDAR
VERSION:2.0
PRODID:-//TCFD Knowledge Hub - ECPv5.12.1//NONSGML v1.0//EN
CALSCALE:GREGORIAN
METHOD:PUBLISH
X-WR-CALNAME:TCFD Knowledge Hub
X-ORIGINAL-URL:https://www.tcfdhub.org
X-WR-CALDESC:Events for TCFD Knowledge Hub
BEGIN:VTIMEZONE
TZID:UTC
BEGIN:STANDARD
TZOFFSETFROM:+0000
TZOFFSETTO:+0000
TZNAME:UTC
DTSTART:20210101T000000
END:STANDARD
END:VTIMEZONE
BEGIN:VEVENT
DTSTART;VALUE=DATE:20210412
DTEND;VALUE=DATE:20210417
DTSTAMP:20220114T125523
CREATED:20210219T094106Z
LAST-MODIFIED:20210219T094147Z
UID:5024-1618185600-1618617599@www.tcfdhub.org
SUMMARY:RI Netherlands 2021
DESCRIPTION:The Dutch market is still Europe’s biggest for pension funds running assets of €1.4 trillion. They have been frontrunners in responsible investment and renewables investing\, and are now branching out into impact investing\, notably via the SDG Investment Initiative. \nThe Dutch finance sector has signed a climate agreement with the government committing to reduce GHG emissions\, and the Dutch central bank DNB has taken a leadership position on sustainable finance internationally\, particularly on biodiversity. The Dutch Stewardship Code is considered one of the most progressive in the world and more than 90% of Dutch pension funds have signed a responsible business conduct covenant. 2021 will be a year of huge scaling up of ESG in the Netherlands. \nRI Netherlands drops down to the country level to bring together Dutch regulators\, investors\, asset managers and service providers to examine and discuss these developments.
URL:https://www.tcfdhub.org/event-calendar/ri-netherlands-2021/
LOCATION:Online
END:VEVENT
BEGIN:VEVENT
DTSTART;VALUE=DATE:20210413
DTEND;VALUE=DATE:20210423
DTSTAMP:20220114T125523
CREATED:20210304T095940Z
LAST-MODIFIED:20210304T100056Z
UID:5049-1618272000-1619135999@www.tcfdhub.org
SUMMARY:Sustainble Investment Forum Europe
DESCRIPTION:Europe continues to be at the forefront of global sustainable finance. Climate Action\, in partnership with UNEP FI are delighted to announce the 2021 Sustainable Investment Forum Europe will remain virtual whilst we navigate these challenging times\, following the success of the September online event and extending our reach to a wider global audience. \nEurope\, in particular the EU can pave the way to a sustainable recovery beyond COVID-19. Europe’s regulatory and societal climates have encouraged and accelerated coherent sustainable investment growth strategies for the EU. They continue to represent a unique opportunity for governments to reshape a sustainable future world\, and for private and institutional investors to access attractive responsible ESG investment propositions to support ESG and global sustainable finance. \nDue to the volatile nature of the COVID-19 crisis\, there is an urgent need to identify and model risks that companies did not consider prior to the pandemic\, to encourage private and institutional investors to invest in more purposeful projects using enhanced de-risking mechanisms offered by increased EU-backed guarantees. With a mandate for embedding environmental\, social and governance (ESG) risks in their investment strategies many are expecting the Biden administration will trigger growth in demand in ESG investing. It is anticipated that Biden will accelerate the transition to a low-carbon US economy –what are the e implications for Europe\, and will this result in a decisive move towards a common approach to cross border carbon taxes in Europe and North America?
URL:https://www.tcfdhub.org/event-calendar/sustainble-investment-forum/
END:VEVENT
BEGIN:VEVENT
DTSTART;TZID=UTC:20210415T150000
DTEND;TZID=UTC:20210415T160000
DTSTAMP:20220114T125523
CREATED:20210105T111545Z
LAST-MODIFIED:20210105T111545Z
UID:4963-1618498800-1618502400@www.tcfdhub.org
SUMMARY:Biodiversity and Infrastructure Investing: Managing Risk and Enhancing Value
DESCRIPTION:Expectations on the finance sector’s role in safeguarding biodiversity and natural capital continue to grow but this complex topic can sometimes be challenging to navigate in a diligence and asset management context. Aimed at infrastructure Private Equity ESG practitioners\, join our webinar for some practical biodiversity insights including: \n\nan overview of the mitigation hierarchy and how it can be integrated effectively into financial decision making;\nan introduction of how biodiversity data can enhance decision making during the diligence process; and\na recent sustainable finance case study of how protecting biodiversity has tangibly enhanced asset value.
URL:https://www.tcfdhub.org/event-calendar/biodiversity-and-infrastructure-investing-managing-risk-and-enhancing-value/
LOCATION:Online
END:VEVENT
BEGIN:VEVENT
DTSTART;TZID=UTC:20210415T150000
DTEND;TZID=UTC:20210415T160000
DTSTAMP:20220114T125523
CREATED:20210323T154114Z
LAST-MODIFIED:20210323T154114Z
UID:5093-1618498800-1618502400@www.tcfdhub.org
SUMMARY:Climate Standards and Enterprise Value
DESCRIPTION:Lucrezia Reichlin will be joined by former Governor of the Bank of England\, Mark Carney to discuss the guiding principles of international sustainability standards based on enterprise value. Elias Papaioannou will host the discussion. \nMark Carney is a Vice Chair of Brookfield Asset Management and Head of ESG and Impact Fund Investing. Mr. Carney is an economist and banker who served as the Governor of the Bank of England from 2013 to 2020\, and prior to that as Governor of the Bank of Canada from 2008 until 2013. He was Chairman of the Financial Stability Board from 2011 to 2018. Prior to his governorships\, Mr. Carney worked at Goldman Sachs as well as the Canadian Department of Finance. He is a long-time and well-known advocate for sustainability\, specifically with regard to the management and reduction of climate risks\, and is currently the United Nations Special Envoy for Climate Action and Finance. \nLucrezia Reichlin is Professor of Economics at the London Business School\, non-executive director of AGEAS Insurance Group as well as Chairman & co-founder of Now-Casting Economics Ltd and a Trustee of IFRS. She is a columnist for the Italian national daily Il Corriere della Sera and a regular contributor of Project Syndicate. Reichlin received a Ph.D. in Economics from New York University. \nElias Papaioannou is co-Academic Director of the Wheeler Institute and Economics Professor at London Business School\, focusing on international finance\, political economy\, applied econometrics\, growth\, and development. \nThis virtual event is being co-hosted by the Wheeler Institute for Business and Development at the London Business School and the European Corporate Governance Institute.
URL:https://www.tcfdhub.org/event-calendar/climate-standards-and-enterprise-value/
LOCATION:Online
END:VEVENT
END:VCALENDAR