BEGIN:VCALENDAR
VERSION:2.0
PRODID:-//TCFD Knowledge Hub - ECPv5.12.1//NONSGML v1.0//EN
CALSCALE:GREGORIAN
METHOD:PUBLISH
X-WR-CALNAME:TCFD Knowledge Hub
X-ORIGINAL-URL:https://www.tcfdhub.org
X-WR-CALDESC:Events for TCFD Knowledge Hub
BEGIN:VTIMEZONE
TZID:UTC
BEGIN:STANDARD
TZOFFSETFROM:+0000
TZOFFSETTO:+0000
TZNAME:UTC
DTSTART:20210101T000000
END:STANDARD
END:VTIMEZONE
BEGIN:VEVENT
DTSTART;TZID=UTC:20210427T090000
DTEND;TZID=UTC:20210427T100000
DTSTAMP:20220114T125733
CREATED:20210319T093305Z
LAST-MODIFIED:20210319T093305Z
UID:5078-1619514000-1619517600@www.tcfdhub.org
SUMMARY:Aligning investments to the Paris Agreement: what does it mean for Swiss investors?
DESCRIPTION:ABOUT THIS SESSION\n\nHow aligned are Swiss investors to Paris\, what needs to be done\, how realistically can it be achieved\, and over what timeframe?\nWhat lessons can Swiss investors take from the second round of the government-backed PACTA (Paris Agreement Capital Transition Assessment) tests?\nHow should carbon data be used by Swiss investors? Does decarbonising portfolios have an impact on the real economy?\nWhich finance instruments/products/assets work best for low carbon investment returns: how and why?\nSpecial real estate focus: how Swiss investors can decarbonise their real estate portfolio over time.\n\n 
URL:https://www.tcfdhub.org/event-calendar/aligning-investments-to-the-paris-agreement-what-does-it-mean-for-swiss-investors/
LOCATION:Online
END:VEVENT
END:VCALENDAR