BEGIN:VCALENDAR
VERSION:2.0
PRODID:-//TCFD Knowledge Hub - ECPv5.12.1//NONSGML v1.0//EN
CALSCALE:GREGORIAN
METHOD:PUBLISH
X-WR-CALNAME:TCFD Knowledge Hub
X-ORIGINAL-URL:https://www.tcfdhub.org
X-WR-CALDESC:Events for TCFD Knowledge Hub
BEGIN:VTIMEZONE
TZID:UTC
BEGIN:STANDARD
TZOFFSETFROM:+0000
TZOFFSETTO:+0000
TZNAME:UTC
DTSTART:20210101T000000
END:STANDARD
END:VTIMEZONE
BEGIN:VEVENT
DTSTART;VALUE=DATE:20210504
DTEND;VALUE=DATE:20210506
DTSTAMP:20220114T125844
CREATED:20210105T120350Z
LAST-MODIFIED:20210105T120350Z
UID:4972-1620086400-1620259199@www.tcfdhub.org
SUMMARY:Transform USA 2021
DESCRIPTION:Business now has the responsibility to push forward with the Net-Zero ambition\, lead the worldwide recovery and embark upon the ‘decade of action’ towards a resilient\, circular\, low-carbon and inclusive world. 2020 has revealed just how critical yet fragile our global supply chains really are\, and now more than ever is it apparent that active change must happen – all for the good of our planet and future. \nThis year\, Transform USA’s agenda will be taking a more practical approach to corporate sustainability\, as we will exclusively focus on HOW TO transform business to help deliver a sustainable\, low-carbon\, inclusive future. It is now more important than ever for us to move from ambition to action. 2021 is especially significant for sustainability as we try to move forward within the context of an ongoing global pandemic\, the 5-year anniversary of the Paris Climate Agreement\, the incoming Biden administration and much more. \nTransform USA 2021 will host two days of live interviews and panels\, as we discuss sustainability in practice in the business world. We will be focussing on the roadmapping of sustainable value chains\, transitioning to a low carbon model\, regenerative strategies and championing diversity and inclusion. Also\, new to 2021\, we will tackle these key issues through interactive discussions\, webinars\, roundtables outside of the live two-day conference to increase audience engagement.
URL:https://www.tcfdhub.org/event-calendar/transform-usa-2021/
LOCATION:Online
END:VEVENT
END:VCALENDAR