BEGIN:VCALENDAR
VERSION:2.0
PRODID:-//TCFD Knowledge Hub - ECPv5.12.1//NONSGML v1.0//EN
CALSCALE:GREGORIAN
METHOD:PUBLISH
X-WR-CALNAME:TCFD Knowledge Hub
X-ORIGINAL-URL:https://www.tcfdhub.org
X-WR-CALDESC:Events for TCFD Knowledge Hub
BEGIN:VTIMEZONE
TZID:Europe/Paris
BEGIN:DAYLIGHT
TZOFFSETFROM:+0100
TZOFFSETTO:+0200
TZNAME:CEST
DTSTART:20210328T010000
END:DAYLIGHT
BEGIN:STANDARD
TZOFFSETFROM:+0200
TZOFFSETTO:+0100
TZNAME:CET
DTSTART:20211031T010000
END:STANDARD
END:VTIMEZONE
BEGIN:VEVENT
DTSTART;TZID=Europe/Paris:20210511T100000
DTEND;TZID=Europe/Paris:20210511T110000
DTSTAMP:20220114T125937
CREATED:20210407T171416Z
LAST-MODIFIED:20210407T171416Z
UID:5120-1620727200-1620730800@www.tcfdhub.org
SUMMARY:How will UK pension funds and asset managers adopt new laws on reporting to the TCFD? And will they soon have to report to mandatory net-zero CO2 emissions targets?
DESCRIPTION:ABOUT THIS SESSION\nUK Chancellor Rishi Sunak has said the TCFD recommendations will be law: how will investors follow suit?\nThe government has also suggested mandatory net-zero targets for financial institutions to ensure climate targets will be met; how might that be done?\nHow should institutional investors start looking at a net-zero emissions trajectory across their portfolios?\nWhat can be learnt from peer initiatives such as the Net-Zero Asset Owner Alliance and Net-Zero Asset Managers Initiative?\nUK banking groups are making net zero commitments\, but are their actions in line? \nSpeakers: \nMorten Nilsson\, Chief Executive Officer\, BT Pension Scheme\nJohn Chilman\, Chief Executive Officer\, RPMI Railpen\nTony Broccardo\, Chief Investment Officer\, Barclays UK Retirement Fund\nModerator: Barbara Davidson\, Senior Analyst\, Carbon Tracker
URL:https://www.tcfdhub.org/event-calendar/how-will-uk-pension-funds-and-asset-managers-adopt-new-laws-on-reporting-to-the-tcfd-and-will-they-soon-have-to-report-to-mandatory-net-zero-co2-emissions-targets/
LOCATION:Online
END:VEVENT
END:VCALENDAR