BEGIN:VCALENDAR
VERSION:2.0
PRODID:-//TCFD Knowledge Hub - ECPv5.12.1//NONSGML v1.0//EN
CALSCALE:GREGORIAN
METHOD:PUBLISH
X-WR-CALNAME:TCFD Knowledge Hub
X-ORIGINAL-URL:https://www.tcfdhub.org
X-WR-CALDESC:Events for TCFD Knowledge Hub
BEGIN:VTIMEZONE
TZID:America/Halifax
BEGIN:DAYLIGHT
TZOFFSETFROM:-0400
TZOFFSETTO:-0300
TZNAME:ADT
DTSTART:20210314T060000
END:DAYLIGHT
BEGIN:STANDARD
TZOFFSETFROM:-0300
TZOFFSETTO:-0400
TZNAME:AST
DTSTART:20211107T050000
END:STANDARD
END:VTIMEZONE
BEGIN:VEVENT
DTSTART;TZID=America/Halifax:20210513T120000
DTEND;TZID=America/Halifax:20210513T130000
DTSTAMP:20220114T125955
CREATED:20210420T124823Z
LAST-MODIFIED:20210420T124823Z
UID:5127-1620907200-1620910800@www.tcfdhub.org
SUMMARY:The imperative for decision-useful corporate climate disclosures
DESCRIPTION:Join Canada Climate Law Initiative for a conversation to get an inside view on corporate climate-related disclosures\, from the legal basis for directors to consider climate change to decision-useful disclosures of material climate-related risks and opportunities. \nAgenda :\n-Welcome note\n-The fiduciary duty of directors with respect to climate change\n-How SASB standards integrate climate-related risks and opportunities\n-Conversation with a corporate director\, a sustainability executive\, and a corporate lawyer\n-Closing remarks \nModerator:\n-Vincent Felteau\, Senior Director\, Responsible Investments\, PSP Investments
URL:https://www.tcfdhub.org/event-calendar/the-imperative-for-decision-useful-corporate-climate-disclosures/
LOCATION:Online
END:VEVENT
END:VCALENDAR