BEGIN:VCALENDAR
VERSION:2.0
PRODID:-//TCFD Knowledge Hub - ECPv5.12.1//NONSGML v1.0//EN
CALSCALE:GREGORIAN
METHOD:PUBLISH
X-WR-CALNAME:TCFD Knowledge Hub
X-ORIGINAL-URL:https://www.tcfdhub.org
X-WR-CALDESC:Events for TCFD Knowledge Hub
BEGIN:VTIMEZONE
TZID:UTC
BEGIN:STANDARD
TZOFFSETFROM:+0000
TZOFFSETTO:+0000
TZNAME:UTC
DTSTART:20210101T000000
END:STANDARD
END:VTIMEZONE
BEGIN:VEVENT
DTSTART;VALUE=DATE:20210517
DTEND;VALUE=DATE:20210522
DTSTAMP:20220114T130053
CREATED:20210315T111555Z
LAST-MODIFIED:20210315T111555Z
UID:5068-1621209600-1621641599@www.tcfdhub.org
SUMMARY:RI Japan 2021
DESCRIPTION:
URL:https://www.tcfdhub.org/event-calendar/ri-japan-2021/
LOCATION:Online
END:VEVENT
END:VCALENDAR