BEGIN:VCALENDAR
VERSION:2.0
PRODID:-//TCFD Knowledge Hub - ECPv5.12.1//NONSGML v1.0//EN
CALSCALE:GREGORIAN
METHOD:PUBLISH
X-WR-CALNAME:TCFD Knowledge Hub
X-ORIGINAL-URL:https://www.tcfdhub.org
X-WR-CALDESC:Events for TCFD Knowledge Hub
BEGIN:VTIMEZONE
TZID:UTC
BEGIN:STANDARD
TZOFFSETFROM:+0000
TZOFFSETTO:+0000
TZNAME:UTC
DTSTART:20210101T000000
END:STANDARD
END:VTIMEZONE
BEGIN:VEVENT
DTSTART;VALUE=DATE:20210525
DTEND;VALUE=DATE:20210527
DTSTAMP:20220114T130146
CREATED:20210105T112551Z
LAST-MODIFIED:20210105T112551Z
UID:4968-1621900800-1622073599@www.tcfdhub.org
SUMMARY:Impact Investor Forum 2021
DESCRIPTION:The Impact Investor Forum will be taking place virtually for the first time in May and will mobilise private market institutions to engage with the burgeoning impact investment movement. \nHear from industry leaders creating scalable\, positive change and explore how you can implement impact principles and methodologies into your portfolio to create greater value. \nJoin over 300 attendees from specialist impact fund managers\, general asset managers and institutional investors for two days of networking at the must-attend event for impact investment professionals. \nThe event platform will provide extensive opportunities to network virtually. Connect with peers through one-to-one meetings\, group discussions\, build relationships and exchange best practices in delivering impact performance and discuss how to overcome the unique challenges to investment models in private equity\, real estate\, infrastructure and private debt.
URL:https://www.tcfdhub.org/event-calendar/impact-investor-forum-2021/
LOCATION:Online
END:VEVENT
BEGIN:VEVENT
DTSTART;VALUE=DATE:20210526
DTEND;VALUE=DATE:20210528
DTSTAMP:20220114T130146
CREATED:20210304T100406Z
LAST-MODIFIED:20210304T100406Z
UID:5052-1621987200-1622159999@www.tcfdhub.org
SUMMARY:Environment\, Social and Governance - Reporting and Disclosure
DESCRIPTION:More and more companies around the world are rapidly adopting and implementing a broad range of sustainability practices as a response to emerging challenges and stakeholder expectations across the environment\, social and governance (ESG) space. Companies that effectively apply and disclose their ESG practices have a massive competitive advantage and as a result attract more investors. With the importance of ESG on your company’s overall growth\, you need to stay on top of all the latest trends\, best practices and lessons learned. \nOur upcoming Environment\, Social and Governance – Reporting and Disclosure two-day professional development event is specifically designed to help you discover best practices and the latest trends for effective ESG communication and reporting. You will leave with a deep understanding of what it takes to effectively embed ESG into your business processes and strategy. \nThis virtual event will provide an excellent opportunity to have your questions answered\, share ideas with like-minded peers in the field\, have your say in meaningful in-depth discussions just as you would at an in-person event and hear some of the foremost thought leaders in the field share their experiences\, insights and analysis on several key issues and topics.
URL:https://www.tcfdhub.org/event-calendar/environment-social-and-governance-reporting-and-disclosure/
LOCATION:Online
END:VEVENT
END:VCALENDAR